BEGIN:VCALENDAR
VERSION:2.0
PRODID:-//NYCC Nantwich youth and community centre - ECPv6.15.20//NONSGML v1.0//EN
CALSCALE:GREGORIAN
METHOD:PUBLISH
X-WR-CALNAME:NYCC Nantwich youth and community centre
X-ORIGINAL-URL:https://nycc.uk
X-WR-CALDESC:Events for NYCC Nantwich youth and community centre
REFRESH-INTERVAL;VALUE=DURATION:PT1H
X-Robots-Tag:noindex
X-PUBLISHED-TTL:PT1H
BEGIN:VTIMEZONE
TZID:UTC
BEGIN:STANDARD
TZOFFSETFROM:+0000
TZOFFSETTO:+0000
TZNAME:UTC
DTSTART:20230101T000000
END:STANDARD
END:VTIMEZONE
BEGIN:VEVENT
DTSTART;TZID=UTC:20240823T190000
DTEND;TZID=UTC:20240823T210000
DTSTAMP:20260423T032854
CREATED:20240725T163251Z
LAST-MODIFIED:20240725T163251Z
UID:467-1724439600-1724446800@nycc.uk
SUMMARY:Seniors Youth Club Cinema Night
DESCRIPTION:We are a space dedicated to young people where you can socialise with your peers in a safe environment.\nOur own dedicated pop up cinema on Fridays for seniors (12-19 years old) will be held from 7-9pm.\nPopcorn and drinks will be available \nIt’s important that you try and join our club (£5 per year) as a member before you come along.\n \nJoin us
URL:https://nycc.uk/event/seniors-youth-club-cinema-night-2/
CATEGORIES:Club activity,Event
ATTACH;FMTTYPE=image/jpeg:https://nycc.uk/wp-content/uploads/2024/07/shutterstock_1901370958.jpg
END:VEVENT
BEGIN:VEVENT
DTSTART;TZID=UTC:20240823T170000
DTEND;TZID=UTC:20240823T190000
DTSTAMP:20260423T032854
CREATED:20240725T163043Z
LAST-MODIFIED:20240725T163043Z
UID:466-1724432400-1724439600@nycc.uk
SUMMARY:Juniors Youth Club Cinema Night
DESCRIPTION:We are a space dedicated to young people where you can socialise with your peers in a safe environment. \nOur own dedicated pop up cinema on Fridays for juniors (8-12 years old) will be held from 5-7pm. \nPopcorn and drinks will be available \nIt’s important that you try and join our club (£5 per year) as a member before you come along. \nhttps://nycc.uk/join-us/
URL:https://nycc.uk/event/juniors-youth-club-cinema-night-2/
CATEGORIES:Club activity,Event
ATTACH;FMTTYPE=image/jpeg:https://nycc.uk/wp-content/uploads/2024/07/shutterstock_1901370958.jpg
END:VEVENT
BEGIN:VEVENT
DTSTART;TZID=UTC:20240823T090000
DTEND;TZID=UTC:20240823T130000
DTSTAMP:20260423T032854
CREATED:20240726T075024Z
LAST-MODIFIED:20240726T075024Z
UID:479-1724403600-1724418000@nycc.uk
SUMMARY:Dysart School of Dance
DESCRIPTION:‘Theatre Week’ Summer school w/c Monday 19th August (£20 per day/£70 for 4 days) with ‘Princess for a Day’ (£12 each) the morning of Friday 23rd. \nFor Details of this event: \n \nHome
URL:https://nycc.uk/event/dysart-school-of-dance-5/
END:VEVENT
BEGIN:VEVENT
DTSTART;TZID=UTC:20240822T090000
DTEND;TZID=UTC:20240822T170000
DTSTAMP:20260423T032854
CREATED:20240726T074917Z
LAST-MODIFIED:20240726T074917Z
UID:478-1724317200-1724346000@nycc.uk
SUMMARY:Dysart School of Dance
DESCRIPTION:‘Theatre Week’ Summer school w/c Monday 19th August (£20 per day/£70 for 4 days) with ‘Princess for a Day’ (£12 each) the morning of Friday 23rd. \nFor Details of this event: \n \nHome
URL:https://nycc.uk/event/dysart-school-of-dance-4/
END:VEVENT
BEGIN:VEVENT
DTSTART;TZID=UTC:20240821T193000
DTEND;TZID=UTC:20240821T213000
DTSTAMP:20260423T032854
CREATED:20240725T162112Z
LAST-MODIFIED:20240803T082412Z
UID:461-1724268600-1724275800@nycc.uk
SUMMARY:Seniors Youth Club
DESCRIPTION:We are a space dedicated to young people where you can socialise with your peers in a safe environment.\nThe seniors youth club is open to those aged 12-19 years old. \nWe have pool\, table tennis\, board games\, book swap\, gaming (playstation)\, Smart TV (music/YouTube)\, WIFI\, outdoor courts\, a well-being room and our own cinema (open on Fridays). \nIt’s important that you try and join our club (£5 per year) as a member before you come along.\nTo join:\n \nJoin us
URL:https://nycc.uk/event/seniors-youth-club-3/
CATEGORIES:Club activity,Event
ATTACH;FMTTYPE=image/jpeg:https://nycc.uk/wp-content/uploads/2024/07/shutterstock_1017992245.jpg
END:VEVENT
BEGIN:VEVENT
DTSTART;TZID=UTC:20240821T173000
DTEND;TZID=UTC:20240821T193000
DTSTAMP:20260423T032854
CREATED:20240725T161947Z
LAST-MODIFIED:20240725T161947Z
UID:460-1724261400-1724268600@nycc.uk
SUMMARY:Juniors Youth Club
DESCRIPTION:We are a space dedicated to young people where you can socialise with your peers in a safe environment. \nThe juniors youth club is open to those aged 8-12 years old. We have pool\, table tennis\, board games\, book swap\, gaming (playstation)\, WIFI\, outdoor courts\, a well-being room and our own cinema (open on Fridays). \nIt’s important that you try and join our club (£5 per year) as a member before you come along. \nhttps://nycc.uk/join-us/
URL:https://nycc.uk/event/juniors-youth-club-4/
CATEGORIES:Club activity,Event
ATTACH;FMTTYPE=image/jpeg:https://nycc.uk/wp-content/uploads/2024/07/shutterstock_452836555.jpg
END:VEVENT
BEGIN:VEVENT
DTSTART;TZID=UTC:20240821T170000
DTEND;TZID=UTC:20240821T190000
DTSTAMP:20260423T032854
CREATED:20240821T173052Z
LAST-MODIFIED:20240803T082741Z
UID:459-1724259600-1724266800@nycc.uk
SUMMARY:Juniors Youth Club
DESCRIPTION:We are a space dedicated to young people where you can socialise with your peers in a safe environment. \nThe juniors youth club is open to those aged 8-12 years old. We have pool\, table tennis\, board games\, book swap\, gaming (playstation)\, WIFI\, outdoor courts\, a well-being room and our own cinema (open on Fridays). \nIt’s important that you try and join our club (£5 per year) as a member before you come along. \nhttps://nycc.uk/join-us/
URL:https://nycc.uk/event/juniors-youth-club-3/
CATEGORIES:Club activity,Event
ATTACH;FMTTYPE=image/jpeg:https://nycc.uk/wp-content/uploads/2024/07/shutterstock_452836555.jpg
END:VEVENT
BEGIN:VEVENT
DTSTART;TZID=UTC:20240821T090000
DTEND;TZID=UTC:20240821T170000
DTSTAMP:20260423T032854
CREATED:20240726T074800Z
LAST-MODIFIED:20240726T074800Z
UID:477-1724230800-1724259600@nycc.uk
SUMMARY:Dysart School of Dance
DESCRIPTION:‘Theatre Week’ Summer school w/c Monday 19th August (£20 per day/£70 for 4 days) with ‘Princess for a Day’ (£12 each) the morning of Friday 23rd. \nFor Details of this event: \n \nHome \n \n 
URL:https://nycc.uk/event/dysart-school-of-dance-3/
END:VEVENT
BEGIN:VEVENT
DTSTART;TZID=UTC:20240820T090000
DTEND;TZID=UTC:20240820T170000
DTSTAMP:20260423T032854
CREATED:20240726T074427Z
LAST-MODIFIED:20240726T074427Z
UID:475-1724144400-1724173200@nycc.uk
SUMMARY:Dysart School of Dance
DESCRIPTION:‘Theatre Week’ Summer school w/c Monday 19th August (£20 per day/£70 for 4 days) with ‘Princess for a Day’ (£12 each) the morning of Friday 23rd. \nFor Details of the event: \n \nHome \n \n 
URL:https://nycc.uk/event/dysart-school-of-dance-2/
END:VEVENT
BEGIN:VEVENT
DTSTART;TZID=UTC:20240819T090000
DTEND;TZID=UTC:20240819T170000
DTSTAMP:20260423T032854
CREATED:20240726T074222Z
LAST-MODIFIED:20240726T074222Z
UID:474-1724058000-1724086800@nycc.uk
SUMMARY:Dysart School of Dance
DESCRIPTION:‘Theatre Week’ Summer school w/c Monday 19th August (£20 per day/£70 for 4 days) with ‘Princess for a Day’ (£12 each) the morning of Friday 23rd. \n\n\n\n\n\n\n\n\n\nFor Details of this event:\n\n\n\n\nhttps://www.dysartschoolofdance.co.uk/
URL:https://nycc.uk/event/dysart-school-of-dance/
CATEGORIES:Event
END:VEVENT
BEGIN:VEVENT
DTSTART;TZID=UTC:20240816T170000
DTEND;TZID=UTC:20240816T190000
DTSTAMP:20260423T032854
CREATED:20240725T162718Z
LAST-MODIFIED:20240725T162718Z
UID:464-1723827600-1723834800@nycc.uk
SUMMARY:Junior Youth Club Cinema Night
DESCRIPTION:We are a space dedicated to young people where you can socialise with your peers in a safe environment. \n\nOur own dedicated pop up cinema on Fridays for juniors (8-12 years old) will be held from 5-7pm. \nPopcorn and drinks will be available \nIt’s important that you try and join our club (£5 per year) as a member before you come along. \nhttps://nycc.uk/join-us/
URL:https://nycc.uk/event/junior-youth-club-cinema-night/
CATEGORIES:Club activity,Event
ATTACH;FMTTYPE=image/jpeg:https://nycc.uk/wp-content/uploads/2024/07/shutterstock_1901370958.jpg
END:VEVENT
BEGIN:VEVENT
DTSTART;TZID=UTC:20240814T190000
DTEND;TZID=UTC:20240814T210000
DTSTAMP:20260423T032854
CREATED:20240725T161508Z
LAST-MODIFIED:20240725T161508Z
UID:458-1723662000-1723669200@nycc.uk
SUMMARY:Seniors Youth Club
DESCRIPTION:We are a space dedicated to young people where you can socialise with your peers in a safe environment.\nThe seniors youth club is open to those aged 12-19 years old. \nWe have pool\, table tennis\, board games\, book swap\, gaming (playstation)\, Smart TV (music/YouTube)\, WIFI\, outdoor courts\, a well-being room and our own cinema (open on Fridays). \nIt’s important that you try and join our club (£5 per year) as a member before you come along.\nTo join:\n \nJoin us
URL:https://nycc.uk/event/seniors-youth-club-2/
ATTACH;FMTTYPE=image/jpeg:https://nycc.uk/wp-content/uploads/2024/07/shutterstock_1017992245.jpg
END:VEVENT
BEGIN:VEVENT
DTSTART;TZID=UTC:20240814T170000
DTEND;TZID=UTC:20240814T190000
DTSTAMP:20260423T032854
CREATED:20240725T161022Z
LAST-MODIFIED:20240725T161022Z
UID:457-1723654800-1723662000@nycc.uk
SUMMARY:Juniors Youth Club
DESCRIPTION:We are a space dedicated to young people where you can socialise with your peers in a safe environment. \nThe juniors youth club is open to those aged 8-12 years old. We have pool\, table tennis\, board games\, book swap\, gaming (playstation)\, WIFI\, outdoor courts\, a well-being room and our own cinema (open on Fridays). \nIt’s important that you try and join our club (£5 per year) as a member before you come along. \nhttps://nycc.uk/join-us/
URL:https://nycc.uk/event/juniors-youth-club-2/
CATEGORIES:Club activity,Event
ATTACH;FMTTYPE=image/jpeg:https://nycc.uk/wp-content/uploads/2024/07/shutterstock_452836555.jpg
END:VEVENT
BEGIN:VEVENT
DTSTART;TZID=UTC:20240809T190000
DTEND;TZID=UTC:20240809T210000
DTSTAMP:20260423T032854
CREATED:20240725T155619Z
LAST-MODIFIED:20240725T160005Z
UID:453-1723230000-1723237200@nycc.uk
SUMMARY:Seniors Youth Club Cinema Night
DESCRIPTION:We are a space dedicated to young people where you can socialise with your peers in a safe environment. \nOur own dedicated pop up cinema on Fridays for juniors (12-19 years old) will be held from 7-9pm. \nPopcorn and drinks will be available \nIt’s important that you try and join our club (£5 per year) as a member before you come along. \n \nJoin us
URL:https://nycc.uk/event/seniors-youth-cinema-night/
CATEGORIES:Club activity,Event
ATTACH;FMTTYPE=image/jpeg:https://nycc.uk/wp-content/uploads/2024/07/shutterstock_1901370958.jpg
END:VEVENT
BEGIN:VEVENT
DTSTART;TZID=UTC:20240809T170000
DTEND;TZID=UTC:20240809T190000
DTSTAMP:20260423T032854
CREATED:20240725T155101Z
LAST-MODIFIED:20240725T155225Z
UID:451-1723222800-1723230000@nycc.uk
SUMMARY:Juniors Youth Club Cinema Night
DESCRIPTION:We are a space dedicated to young people where you can socialise with your peers in a safe environment. \n\nOur own dedicated pop up cinema on Fridays for juniors (8-12 years old) will be held from 5-7pm. \nPopcorn and drinks will be available \nIt’s important that you try and join our club (£5 per year) as a member before you come along. \nhttps://nycc.uk/join-us/ \n  \n 
URL:https://nycc.uk/event/juniors-youth-club-cinema-night/
CATEGORIES:Club activity,Event
ATTACH;FMTTYPE=image/jpeg:https://nycc.uk/wp-content/uploads/2024/07/shutterstock_1901370958.jpg
END:VEVENT
BEGIN:VEVENT
DTSTART;TZID=UTC:20240807T190000
DTEND;TZID=UTC:20240807T210000
DTSTAMP:20260423T032854
CREATED:20240725T160829Z
LAST-MODIFIED:20240725T160829Z
UID:456-1723057200-1723064400@nycc.uk
SUMMARY:Senior Youth Club
DESCRIPTION:We are a space dedicated to young people where you can socialise with your peers in a safe environment. \nThe seniors youth club is open to those aged 12-19 years old. We have pool\, table tennis\, board games\, book swap\, gaming (playstation)\, Smart TV (music/YouTube)\, WIFI\, outdoor courts\, a well-being room and our own cinema (open on Fridays). \nIt’s important that you try and join our club (£5 per year) as a member before you come along. \nTo join: \nhttps://nycc.uk/join-us/
URL:https://nycc.uk/event/senior-youth-club/
CATEGORIES:Club activity,Event
ATTACH;FMTTYPE=image/jpeg:https://nycc.uk/wp-content/uploads/2024/07/shutterstock_1901370958.jpg
END:VEVENT
BEGIN:VEVENT
DTSTART;TZID=UTC:20240807T170000
DTEND;TZID=UTC:20240807T190000
DTSTAMP:20260423T032854
CREATED:20240725T160455Z
LAST-MODIFIED:20240725T160557Z
UID:455-1723050000-1723057200@nycc.uk
SUMMARY:Juniors Youth Club
DESCRIPTION:We are a space dedicated to young people where you can socialise with your peers in a safe environment. \nThe juniors youth club is open to those aged 8-12 years old. We have pool\, table tennis\, board games\, book swap\, gaming (playstation)\, WIFI\, outdoor courts\, a well-being room and our own cinema (open on Fridays). \nIt’s important that you try and join our club (£5 per year) as a member before you come along. \nhttps://nycc.uk/join-us/
URL:https://nycc.uk/event/juniors-youth-club/
CATEGORIES:Club activity,Event
ATTACH;FMTTYPE=image/jpeg:https://nycc.uk/wp-content/uploads/2024/07/shutterstock_452836555.jpg
END:VEVENT
BEGIN:VEVENT
DTSTART;TZID=UTC:20240802T190000
DTEND;TZID=UTC:20240802T223000
DTSTAMP:20260423T032854
CREATED:20240726T073431Z
LAST-MODIFIED:20240726T073431Z
UID:471-1722625200-1722637800@nycc.uk
SUMMARY:Party Bingo
DESCRIPTION:Our awesome new BINGO PARTY event is now coming to you – We’ve dragged an old school game\, kicking\, screaming and dancing into the 21st century! \nFor Details of this event: \nhttps://www.ticketsource.co.uk/whats-on/nantwich/nantwich-guy-harvey-centre/party-bingo/e-qlqrqv \n 
URL:https://nycc.uk/event/party-bingo/
LOCATION:NYCC\, BIRCHIN LANE\, NANTWICH\, CW56ET\, United Kingdom
CATEGORIES:Event
END:VEVENT
BEGIN:VEVENT
DTSTART;TZID=UTC:20240731T190000
DTEND;TZID=UTC:20240731T210000
DTSTAMP:20260423T032854
CREATED:20240725T153650Z
LAST-MODIFIED:20240725T153921Z
UID:449-1722452400-1722459600@nycc.uk
SUMMARY:SENIORS YOUTH CLUB
DESCRIPTION:We are a space dedicated to young people where you can socialise with your peers in a safe environment. \nThe seniors youth club is open to those aged 12-19 years old. We have pool\, table tennis\, board games\, book swap\, gaming (playstation)\,  Smart TV (music/YouTube)\, WIFI\, outdoor courts\, a well-being room and our own cinema (open on Fridays). \nIt’s important that you try and join our club as a member before you come along. \nTo join: \nhttps://nycc.uk/join-us/
URL:https://nycc.uk/event/seniors-youth-club/
CATEGORIES:Club activity,Event
ATTACH;FMTTYPE=image/jpeg:https://nycc.uk/wp-content/uploads/2024/07/shutterstock_1017992245.jpg
END:VEVENT
BEGIN:VEVENT
DTSTART;TZID=UTC:20240731T170000
DTEND;TZID=UTC:20240731T190000
DTSTAMP:20260423T032854
CREATED:20240725T152201Z
LAST-MODIFIED:20240725T152201Z
UID:441-1722445200-1722452400@nycc.uk
SUMMARY:Junior Youth Club
DESCRIPTION:We are a space dedicated to young people where you can socialise with your peers in a safe environment. \nThe juniors youth club is open to those aged 8-12 years old. We have pool\, table tennis\, board games\, book swap\, gaming (playstation)\, WIFI\, outdoor courts\, a well-being room and our own cinema (open on Fridays). \nIt’s important that you try and join our club as a member before you come along. \n 
URL:https://nycc.uk/event/junior-youth-club/
LOCATION:NYCC\, BIRCHIN LANE\, NANTWICH\, CW56ET\, United Kingdom
CATEGORIES:Club activity,Event
ATTACH;FMTTYPE=image/jpeg:https://nycc.uk/wp-content/uploads/2024/07/shutterstock_452836555.jpg
END:VEVENT
BEGIN:VEVENT
DTSTART;TZID=UTC:20240725T080000
DTEND;TZID=UTC:20240725T170000
DTSTAMP:20260423T032854
CREATED:20240725T162923Z
LAST-MODIFIED:20240725T162923Z
UID:465-1721894400-1721926800@nycc.uk
SUMMARY:Seniors Youth Club Cinema Night
DESCRIPTION:We are a space dedicated to young people where you can socialise with your peers in a safe environment.\nOur own dedicated pop up cinema on Fridays for seniors  (12-19 years old) will be held from 7-9pm. \nPopcorn and drinks will be available \nIt’s important that you try and join our club (£5 per year) as a member before you come along.\n \nJoin us
URL:https://nycc.uk/event/seniors-youth-club-cinema-night/
CATEGORIES:Club activity,Event
ATTACH;FMTTYPE=image/jpeg:https://nycc.uk/wp-content/uploads/2024/07/shutterstock_1901370958.jpg
END:VEVENT
BEGIN:VEVENT
DTSTART;TZID=UTC:20240719T084500
DTEND;TZID=UTC:20240719T174500
DTSTAMP:20260423T032854
CREATED:20240617T085422Z
LAST-MODIFIED:20240617T085422Z
UID:419-1721378700-1721411100@nycc.uk
SUMMARY:Dance Class
DESCRIPTION:
URL:https://nycc.uk/event/dance-class-26/
CATEGORIES:Club activity
ATTACH;FMTTYPE=image/jpeg:https://nycc.uk/wp-content/uploads/2024/06/danielle-cerullo-3ckWUnaCxzc-unsplash-1-scaled.jpg
END:VEVENT
BEGIN:VEVENT
DTSTART;TZID=UTC:20240718T101500
DTEND;TZID=UTC:20240718T141500
DTSTAMP:20260423T032854
CREATED:20240617T085320Z
LAST-MODIFIED:20240617T085320Z
UID:415-1721297700-1721312100@nycc.uk
SUMMARY:Dance Class
DESCRIPTION:
URL:https://nycc.uk/event/dance-class-24/
CATEGORIES:Club activity
ATTACH;FMTTYPE=image/jpeg:https://nycc.uk/wp-content/uploads/2024/06/danielle-cerullo-3ckWUnaCxzc-unsplash-1-scaled.jpg
END:VEVENT
BEGIN:VEVENT
DTSTART;TZID=UTC:20240718T044500
DTEND;TZID=UTC:20240718T190000
DTSTAMP:20260423T032854
CREATED:20240617T085351Z
LAST-MODIFIED:20240617T085351Z
UID:417-1721277900-1721329200@nycc.uk
SUMMARY:Dance Class
DESCRIPTION:
URL:https://nycc.uk/event/dance-class-25/
CATEGORIES:Club activity
ATTACH;FMTTYPE=image/jpeg:https://nycc.uk/wp-content/uploads/2024/06/danielle-cerullo-3ckWUnaCxzc-unsplash-1-scaled.jpg
END:VEVENT
BEGIN:VEVENT
DTSTART;TZID=UTC:20240717T160000
DTEND;TZID=UTC:20240717T211500
DTSTAMP:20260423T032854
CREATED:20240617T085237Z
LAST-MODIFIED:20240617T085237Z
UID:413-1721232000-1721250900@nycc.uk
SUMMARY:Dance Class
DESCRIPTION:
URL:https://nycc.uk/event/dance-class-23/
CATEGORIES:Club activity
ATTACH;FMTTYPE=image/jpeg:https://nycc.uk/wp-content/uploads/2024/06/danielle-cerullo-3ckWUnaCxzc-unsplash-1-scaled.jpg
END:VEVENT
BEGIN:VEVENT
DTSTART;TZID=UTC:20240717T100000
DTEND;TZID=UTC:20240717T130000
DTSTAMP:20260423T032854
CREATED:20240617T085119Z
LAST-MODIFIED:20240617T085211Z
UID:409-1721210400-1721221200@nycc.uk
SUMMARY:Home Educators
DESCRIPTION:
URL:https://nycc.uk/event/home-educators/
CATEGORIES:Event
ATTACH;FMTTYPE=image/jpeg:https://nycc.uk/wp-content/uploads/2024/05/Group-35096.jpg
END:VEVENT
BEGIN:VEVENT
DTSTART;TZID=UTC:20240716T153000
DTEND;TZID=UTC:20240716T180000
DTSTAMP:20260423T032854
CREATED:20240617T085042Z
LAST-MODIFIED:20240617T085042Z
UID:407-1721143800-1721152800@nycc.uk
SUMMARY:Dance Class
DESCRIPTION:
URL:https://nycc.uk/event/dance-class-22/
CATEGORIES:Club activity
ATTACH;FMTTYPE=image/jpeg:https://nycc.uk/wp-content/uploads/2024/06/danielle-cerullo-3ckWUnaCxzc-unsplash-1-scaled.jpg
END:VEVENT
BEGIN:VEVENT
DTSTART;TZID=UTC:20240715T154500
DTEND;TZID=UTC:20240715T211500
DTSTAMP:20260423T032854
CREATED:20240617T084946Z
LAST-MODIFIED:20240617T084946Z
UID:405-1721058300-1721078100@nycc.uk
SUMMARY:Dance Class
DESCRIPTION:
URL:https://nycc.uk/event/dance-class-21/
CATEGORIES:Club activity
ATTACH;FMTTYPE=image/jpeg:https://nycc.uk/wp-content/uploads/2024/06/danielle-cerullo-3ckWUnaCxzc-unsplash-1-scaled.jpg
END:VEVENT
BEGIN:VEVENT
DTSTART;VALUE=DATE:20240714
DTEND;VALUE=DATE:20240715
DTSTAMP:20260423T032854
CREATED:20240617T084913Z
LAST-MODIFIED:20240617T084913Z
UID:403-1720915200-1721001599@nycc.uk
SUMMARY:Freerunners
DESCRIPTION:
URL:https://nycc.uk/event/freerunners/
CATEGORIES:Event
ATTACH;FMTTYPE=image/jpeg:https://nycc.uk/wp-content/uploads/2024/05/Group-35096.jpg
END:VEVENT
BEGIN:VEVENT
DTSTART;TZID=UTC:20240713T084500
DTEND;TZID=UTC:20240713T174500
DTSTAMP:20260423T032854
CREATED:20240617T084631Z
LAST-MODIFIED:20240617T084631Z
UID:401-1720860300-1720892700@nycc.uk
SUMMARY:Dance Class
DESCRIPTION:
URL:https://nycc.uk/event/dance-class-20/
CATEGORIES:Club activity
ATTACH;FMTTYPE=image/jpeg:https://nycc.uk/wp-content/uploads/2024/06/danielle-cerullo-3ckWUnaCxzc-unsplash-1-scaled.jpg
END:VEVENT
END:VCALENDAR