BEGIN:VCALENDAR
VERSION:2.0
PRODID:-//NYCC Nantwich youth and community centre - ECPv6.15.20//NONSGML v1.0//EN
CALSCALE:GREGORIAN
METHOD:PUBLISH
X-WR-CALNAME:NYCC Nantwich youth and community centre
X-ORIGINAL-URL:https://nycc.uk
X-WR-CALDESC:Events for NYCC Nantwich youth and community centre
REFRESH-INTERVAL;VALUE=DURATION:PT1H
X-Robots-Tag:noindex
X-PUBLISHED-TTL:PT1H
BEGIN:VTIMEZONE
TZID:UTC
BEGIN:STANDARD
TZOFFSETFROM:+0000
TZOFFSETTO:+0000
TZNAME:UTC
DTSTART:20230101T000000
END:STANDARD
END:VTIMEZONE
BEGIN:VEVENT
DTSTART;TZID=UTC:20240620T160000
DTEND;TZID=UTC:20240620T211500
DTSTAMP:20260425T120232
CREATED:20240616T150129Z
LAST-MODIFIED:20240617T081838Z
UID:353-1718899200-1718918100@nycc.uk
SUMMARY:Dance Class
DESCRIPTION:
URL:https://nycc.uk/event/dance-class/
CATEGORIES:Club activity
ATTACH;FMTTYPE=image/jpeg:https://nycc.uk/wp-content/uploads/2024/06/danielle-cerullo-3ckWUnaCxzc-unsplash-1-scaled.jpg
END:VEVENT
END:VCALENDAR