BEGIN:VCALENDAR
VERSION:2.0
PRODID:-//NYCC Nantwich youth and community centre - ECPv6.15.20//NONSGML v1.0//EN
CALSCALE:GREGORIAN
METHOD:PUBLISH
X-WR-CALNAME:NYCC Nantwich youth and community centre
X-ORIGINAL-URL:https://nycc.uk
X-WR-CALDESC:Events for NYCC Nantwich youth and community centre
REFRESH-INTERVAL;VALUE=DURATION:PT1H
X-Robots-Tag:noindex
X-PUBLISHED-TTL:PT1H
BEGIN:VTIMEZONE
TZID:UTC
BEGIN:STANDARD
TZOFFSETFROM:+0000
TZOFFSETTO:+0000
TZNAME:UTC
DTSTART:20240101T000000
END:STANDARD
END:VTIMEZONE
BEGIN:VEVENT
DTSTART;TZID=UTC:20260216T103000
DTEND;TZID=UTC:20260216T113000
DTSTAMP:20260425T172655
CREATED:20260127T161836Z
LAST-MODIFIED:20260206T115758Z
UID:1422-1771237800-1771241400@nycc.uk
SUMMARY:Feel Good Gold
DESCRIPTION:Come and join our brilliant older community every Monday\, 10.30–11.30 a.m. for a session that’s all about moving\, feeling good\, and connecting. \n💪 30 minutes of gentle strength and resistance work – designed to help you stay fit\, strong\, and confident. \n☕ 30 minutes of tea\, coffee\, and chat – because building friendships is just as important as building muscles! \nCome along\, feel good\, get stronger\, and be part of our warm\, welcoming community every Monday at NYCC. 💛 \n📞 To book your place\, call Claire on 07811983823.
URL:https://nycc.uk/event/feel-good-gold-26/
LOCATION:NYCC\, BIRCHIN LANE\, NANTWICH\, CW56ET\, United Kingdom
CATEGORIES:Feel Good Gold
ATTACH;FMTTYPE=image/jpeg:https://nycc.uk/wp-content/uploads/2025/12/WhatsApp-Image-2025-12-11-at-2.52.20-PM-SharpenAI-Softness.jpeg
END:VEVENT
BEGIN:VEVENT
DTSTART;TZID=UTC:20260211T103000
DTEND;TZID=UTC:20260211T113000
DTSTAMP:20260425T172655
CREATED:20260127T161648Z
LAST-MODIFIED:20260206T115448Z
UID:1425-1770805800-1770809400@nycc.uk
SUMMARY:Feel Good Gold
DESCRIPTION:Come and join our brilliant older community every Wednesday\, 10.30–11.30 a.m. for a session that’s all about moving\, feeling good\, and connecting. \n💪 30 minutes of gentle strength and resistance work – designed to help you stay fit\, strong\, and confident. \n☕ 30 minutes of tea\, coffee\, and chat – because building friendships is just as important as building muscles! \nCome along\, feel good\, get stronger\, and be part of our warm\, welcoming community every Monday at NYCC. 💛 \n📞 To book your place\, call Claire on 07811983823.
URL:https://nycc.uk/event/feel-good-gold-25/
LOCATION:NYCC\, BIRCHIN LANE\, NANTWICH\, CW56ET\, United Kingdom
CATEGORIES:Feel Good Gold
ATTACH;FMTTYPE=image/jpeg:https://nycc.uk/wp-content/uploads/2025/12/WhatsApp-Image-2025-12-11-at-2.52.20-PM-SharpenAI-Softness.jpeg
END:VEVENT
BEGIN:VEVENT
DTSTART;TZID=UTC:20260209T103000
DTEND;TZID=UTC:20260209T113000
DTSTAMP:20260425T172655
CREATED:20260127T161335Z
LAST-MODIFIED:20260127T161335Z
UID:1421-1770633000-1770636600@nycc.uk
SUMMARY:Feel Good Gold
DESCRIPTION:Come and join our brilliant older community every Monday\, 10.30–11.30 a.m. for a session that’s all about moving\, feeling good\, and connecting. \n💪 30 minutes of gentle strength and resistance work – designed to help you stay fit\, strong\, and confident. \n☕ 30 minutes of tea\, coffee\, and chat – because building friendships is just as important as building muscles! \nCome along\, feel good\, get stronger\, and be part of our warm\, welcoming community every Monday at NYCC. 💛 \n📞 To book your place\, call Claire on 07811983823.
URL:https://nycc.uk/event/feel-good-gold-24/
LOCATION:NYCC\, BIRCHIN LANE\, NANTWICH\, CW56ET\, United Kingdom
CATEGORIES:Feel Good Gold
ATTACH;FMTTYPE=image/jpeg:https://nycc.uk/wp-content/uploads/2025/12/WhatsApp-Image-2025-12-11-at-2.52.20-PM-SharpenAI-Softness.jpeg
END:VEVENT
BEGIN:VEVENT
DTSTART;TZID=UTC:20260204T103000
DTEND;TZID=UTC:20260204T113000
DTSTAMP:20260425T172655
CREATED:20260127T161054Z
LAST-MODIFIED:20260127T161138Z
UID:1424-1770201000-1770204600@nycc.uk
SUMMARY:Feel Good Gold
DESCRIPTION:Come and join our brilliant older community every Wednesday\, 10.30–11.30 a.m. for a session that’s all about moving\, feeling good\, and connecting. \n💪 30 minutes of gentle strength and resistance work – designed to help you stay fit\, strong\, and confident. \n☕ 30 minutes of tea\, coffee\, and chat – because building friendships is just as important as building muscles! \nCome along\, feel good\, get stronger\, and be part of our warm\, welcoming community every Monday at NYCC. 💛 \n📞 To book your place\, call Claire on 07811983823.
URL:https://nycc.uk/event/feel-good-gold-23/
LOCATION:NYCC\, BIRCHIN LANE\, NANTWICH\, CW56ET\, United Kingdom
CATEGORIES:Feel Good Gold
ATTACH;FMTTYPE=image/jpeg:https://nycc.uk/wp-content/uploads/2025/12/WhatsApp-Image-2025-12-11-at-2.52.20-PM-SharpenAI-Softness.jpeg
END:VEVENT
BEGIN:VEVENT
DTSTART;TZID=UTC:20260202T103000
DTEND;TZID=UTC:20260202T113000
DTSTAMP:20260425T172655
CREATED:20260127T160825Z
LAST-MODIFIED:20260127T160825Z
UID:1420-1770028200-1770031800@nycc.uk
SUMMARY:Feel Good Gold
DESCRIPTION:Come and join our brilliant older community every Monday\, 10.30–11.30 a.m. for a session that’s all about moving\, feeling good\, and connecting. \n💪 30 minutes of gentle strength and resistance work – designed to help you stay fit\, strong\, and confident. \n☕ 30 minutes of tea\, coffee\, and chat – because building friendships is just as important as building muscles! \nCome along\, feel good\, get stronger\, and be part of our warm\, welcoming community every Monday at NYCC. 💛 \n📞 To book your place\, call Claire on 07811983823.
URL:https://nycc.uk/event/feel-good-gold-22/
LOCATION:NYCC\, BIRCHIN LANE\, NANTWICH\, CW56ET\, United Kingdom
CATEGORIES:Feel Good Gold
ATTACH;FMTTYPE=image/jpeg:https://nycc.uk/wp-content/uploads/2025/12/WhatsApp-Image-2025-12-11-at-2.52.20-PM-SharpenAI-Softness.jpeg
END:VEVENT
BEGIN:VEVENT
DTSTART;TZID=UTC:20260128T103000
DTEND;TZID=UTC:20260128T113000
DTSTAMP:20260425T172655
CREATED:20251218T185257Z
LAST-MODIFIED:20251218T185429Z
UID:1381-1769596200-1769599800@nycc.uk
SUMMARY:Feel Good Gold
DESCRIPTION:Come and join our brilliant older community every Wednesday\, 10.30–11.30 a.m. for a session that’s all about moving\, feeling good\, and connecting. \n💪 30 minutes of gentle strength and resistance work – designed to help you stay fit\, strong\, and confident. \n☕ 30 minutes of tea\, coffee\, and chat – because building friendships is just as important as building muscles! \nCome along\, feel good\, get stronger\, and be part of our warm\, welcoming community every Monday at NYCC. 💛 \n📞 To book your place\, call Claire on 07811983823.
URL:https://nycc.uk/event/feel-good-gold-21/
LOCATION:NYCC\, BIRCHIN LANE\, NANTWICH\, CW56ET\, United Kingdom
CATEGORIES:Feel Good Gold
ATTACH;FMTTYPE=image/jpeg:https://nycc.uk/wp-content/uploads/2025/12/WhatsApp-Image-2025-12-11-at-2.52.20-PM-SharpenAI-Softness.jpeg
END:VEVENT
BEGIN:VEVENT
DTSTART;TZID=UTC:20260126T103000
DTEND;TZID=UTC:20260126T113000
DTSTAMP:20260425T172655
CREATED:20251218T185121Z
LAST-MODIFIED:20251218T185424Z
UID:1380-1769423400-1769427000@nycc.uk
SUMMARY:Feel Good Gold
DESCRIPTION:Come and join our brilliant older community every Monday\, 10.30–11.30 a.m. for a session that’s all about moving\, feeling good\, and connecting. \n💪 30 minutes of gentle strength and resistance work – designed to help you stay fit\, strong\, and confident. \n☕ 30 minutes of tea\, coffee\, and chat – because building friendships is just as important as building muscles! \nCome along\, feel good\, get stronger\, and be part of our warm\, welcoming community every Monday at NYCC. 💛 \n📞 To book your place\, call Claire on 07811983823.
URL:https://nycc.uk/event/feel-good-gold-20/
LOCATION:NYCC\, BIRCHIN LANE\, NANTWICH\, CW56ET\, United Kingdom
CATEGORIES:Feel Good Gold
ATTACH;FMTTYPE=image/jpeg:https://nycc.uk/wp-content/uploads/2025/12/WhatsApp-Image-2025-12-11-at-2.52.20-PM-SharpenAI-Softness.jpeg
END:VEVENT
BEGIN:VEVENT
DTSTART;TZID=UTC:20260121T103000
DTEND;TZID=UTC:20260121T113000
DTSTAMP:20260425T172655
CREATED:20251218T184820Z
LAST-MODIFIED:20251218T185418Z
UID:1379-1768991400-1768995000@nycc.uk
SUMMARY:Feel Good Gold
DESCRIPTION:Come and join our brilliant older community every Wednesday\, 10.30–11.30 a.m. for a session that’s all about moving\, feeling good\, and connecting. \n💪 30 minutes of gentle strength and resistance work – designed to help you stay fit\, strong\, and confident. \n☕ 30 minutes of tea\, coffee\, and chat – because building friendships is just as important as building muscles! \nCome along\, feel good\, get stronger\, and be part of our warm\, welcoming community every Monday at NYCC. 💛 \n📞 To book your place\, call Claire on 07811983823.
URL:https://nycc.uk/event/feel-good-gold-19/
LOCATION:NYCC\, BIRCHIN LANE\, NANTWICH\, CW56ET\, United Kingdom
CATEGORIES:Feel Good Gold
ATTACH;FMTTYPE=image/jpeg:https://nycc.uk/wp-content/uploads/2025/12/WhatsApp-Image-2025-12-11-at-2.52.20-PM-SharpenAI-Softness.jpeg
END:VEVENT
BEGIN:VEVENT
DTSTART;TZID=UTC:20260119T103000
DTEND;TZID=UTC:20260119T113000
DTSTAMP:20260425T172655
CREATED:20251218T184607Z
LAST-MODIFIED:20251218T185411Z
UID:1378-1768818600-1768822200@nycc.uk
SUMMARY:Feel Good Gold
DESCRIPTION:Come and join our brilliant older community every Monday\, 10.30–11.30 a.m. for a session that’s all about moving\, feeling good\, and connecting. \n💪 30 minutes of gentle strength and resistance work – designed to help you stay fit\, strong\, and confident. \n☕ 30 minutes of tea\, coffee\, and chat – because building friendships is just as important as building muscles! \nCome along\, feel good\, get stronger\, and be part of our warm\, welcoming community every Monday at NYCC. 💛 \n📞 To book your place\, call Claire on 07811983823.
URL:https://nycc.uk/event/feel-good-gold-18/
LOCATION:NYCC\, BIRCHIN LANE\, NANTWICH\, CW56ET\, United Kingdom
CATEGORIES:Feel Good Gold
ATTACH;FMTTYPE=image/jpeg:https://nycc.uk/wp-content/uploads/2025/12/WhatsApp-Image-2025-12-11-at-2.52.20-PM-SharpenAI-Softness.jpeg
END:VEVENT
BEGIN:VEVENT
DTSTART;TZID=UTC:20260114T103000
DTEND;TZID=UTC:20260114T113000
DTSTAMP:20260425T172655
CREATED:20251218T184351Z
LAST-MODIFIED:20251218T184351Z
UID:1377-1768386600-1768390200@nycc.uk
SUMMARY:Feel Good Gold
DESCRIPTION:Come and join our brilliant older community every Wednesday\, 10.30–11.30 a.m. for a session that’s all about moving\, feeling good\, and connecting. \n💪 30 minutes of gentle strength and resistance work – designed to help you stay fit\, strong\, and confident. \n☕ 30 minutes of tea\, coffee\, and chat – because building friendships is just as important as building muscles! \nCome along\, feel good\, get stronger\, and be part of our warm\, welcoming community every Monday at NYCC. 💛 \n📞 To book your place\, call Claire on 07811983823.
URL:https://nycc.uk/event/feel-good-gold-17/
LOCATION:NYCC\, BIRCHIN LANE\, NANTWICH\, CW56ET\, United Kingdom
CATEGORIES:Feel Good Gold
ATTACH;FMTTYPE=image/jpeg:https://nycc.uk/wp-content/uploads/2025/12/WhatsApp-Image-2025-12-11-at-2.52.20-PM-SharpenAI-Softness.jpeg
END:VEVENT
BEGIN:VEVENT
DTSTART;TZID=UTC:20260112T103000
DTEND;TZID=UTC:20260112T113000
DTSTAMP:20260425T172655
CREATED:20251218T184407Z
LAST-MODIFIED:20251218T185313Z
UID:1376-1768213800-1768217400@nycc.uk
SUMMARY:Feel Good Gold
DESCRIPTION:Come and join our brilliant older community every Monday\, 10.30–11.30 a.m. for a session that’s all about moving\, feeling good\, and connecting. \n💪 30 minutes of gentle strength and resistance work – designed to help you stay fit\, strong\, and confident. \n☕ 30 minutes of tea\, coffee\, and chat – because building friendships is just as important as building muscles! \nCome along\, feel good\, get stronger\, and be part of our warm\, welcoming community every Monday at NYCC. 💛 \n📞 To book your place\, call Claire on 07811983823.
URL:https://nycc.uk/event/feel-good-gold-16/
LOCATION:NYCC\, BIRCHIN LANE\, NANTWICH\, CW56ET\, United Kingdom
CATEGORIES:Feel Good Gold
ATTACH;FMTTYPE=image/jpeg:https://nycc.uk/wp-content/uploads/2025/12/WhatsApp-Image-2025-12-11-at-2.52.20-PM-SharpenAI-Softness.jpeg
END:VEVENT
BEGIN:VEVENT
DTSTART;TZID=UTC:20260107T103000
DTEND;TZID=UTC:20260107T113000
DTSTAMP:20260425T172655
CREATED:20251218T183757Z
LAST-MODIFIED:20251218T185326Z
UID:1375-1767781800-1767785400@nycc.uk
SUMMARY:Feel Good Gold
DESCRIPTION:Come and join our brilliant older community every Wednesday\, 10.30–11.30 a.m. for a session that’s all about moving\, feeling good\, and connecting. \n💪 30 minutes of gentle strength and resistance work – designed to help you stay fit\, strong\, and confident. \n☕ 30 minutes of tea\, coffee\, and chat – because building friendships is just as important as building muscles! \nCome along\, feel good\, get stronger\, and be part of our warm\, welcoming community every Monday at NYCC. 💛 \n📞 To book your place\, call Claire on 07811983823.
URL:https://nycc.uk/event/feel-good-gold-15/
LOCATION:NYCC\, BIRCHIN LANE\, NANTWICH\, CW56ET\, United Kingdom
CATEGORIES:Feel Good Gold
ATTACH;FMTTYPE=image/jpeg:https://nycc.uk/wp-content/uploads/2025/12/WhatsApp-Image-2025-12-11-at-2.52.20-PM-SharpenAI-Softness.jpeg
END:VEVENT
BEGIN:VEVENT
DTSTART;TZID=UTC:20260105T103000
DTEND;TZID=UTC:20260105T113000
DTSTAMP:20260425T172655
CREATED:20251218T183541Z
LAST-MODIFIED:20251218T185338Z
UID:1374-1767609000-1767612600@nycc.uk
SUMMARY:Feel Good Gold
DESCRIPTION:Come and join our brilliant older community every Monday\, 10.30–11.30 a.m. for a session that’s all about moving\, feeling good\, and connecting. \n💪 30 minutes of gentle strength and resistance work – designed to help you stay fit\, strong\, and confident. \n☕ 30 minutes of tea\, coffee\, and chat – because building friendships is just as important as building muscles! \nCome along\, feel good\, get stronger\, and be part of our warm\, welcoming community every Monday at NYCC. 💛 \n📞 To book your place\, call Claire on 07811983823.
URL:https://nycc.uk/event/feel-good-gold-14/
LOCATION:NYCC\, BIRCHIN LANE\, NANTWICH\, CW56ET\, United Kingdom
CATEGORIES:Feel Good Gold
ATTACH;FMTTYPE=image/jpeg:https://nycc.uk/wp-content/uploads/2025/12/WhatsApp-Image-2025-12-11-at-2.52.20-PM-SharpenAI-Softness.jpeg
END:VEVENT
BEGIN:VEVENT
DTSTART;TZID=UTC:20251222T103000
DTEND;TZID=UTC:20251222T113000
DTSTAMP:20260425T172655
CREATED:20251031T122251Z
LAST-MODIFIED:20251219T113952Z
UID:1296-1766399400-1766403000@nycc.uk
SUMMARY:Feel Good Gold
DESCRIPTION:Come and join our brilliant older community every Monday\, 10.30–11.30 a.m. for a session that’s all about moving\, feeling good\, and connecting. \n💪 30 minutes of gentle strength and resistance work – designed to help you stay fit\, strong\, and confident. \n☕ 30 minutes of tea\, coffee\, and chat – because building friendships is just as important as building muscles! \nCome along\, feel good\, get stronger\, and be part of our warm\, welcoming community every Monday at NYCC. 💛 \n📞 To book your place\, call Claire on 07811983823.
URL:https://nycc.uk/event/feel-good-gold-13/
LOCATION:NYCC\, BIRCHIN LANE\, NANTWICH\, CW56ET\, United Kingdom
CATEGORIES:Feel Good Gold
ATTACH;FMTTYPE=image/jpeg:https://nycc.uk/wp-content/uploads/2025/09/WhatsApp-Image-2025-10-10-at-4.49.48-PM.jpeg
END:VEVENT
BEGIN:VEVENT
DTSTART;TZID=UTC:20251215T103000
DTEND;TZID=UTC:20251215T113000
DTSTAMP:20260425T172655
CREATED:20251031T122242Z
LAST-MODIFIED:20251031T122242Z
UID:1295-1765794600-1765798200@nycc.uk
SUMMARY:Feel Good Gold
DESCRIPTION:Come and join our brilliant older community every Monday\, 10.30–11.30 a.m. for a session that’s all about moving\, feeling good\, and connecting. \n💪 30 minutes of gentle strength and resistance work – designed to help you stay fit\, strong\, and confident. \n☕ 30 minutes of tea\, coffee\, and chat – because building friendships is just as important as building muscles! \nCome along\, feel good\, get stronger\, and be part of our warm\, welcoming community every Monday at NYCC. 💛 \n📞 To book your place\, call Claire on 07811983823.
URL:https://nycc.uk/event/feel-good-gold-12/
LOCATION:NYCC\, BIRCHIN LANE\, NANTWICH\, CW56ET\, United Kingdom
CATEGORIES:Feel Good Gold
ATTACH;FMTTYPE=image/jpeg:https://nycc.uk/wp-content/uploads/2025/09/WhatsApp-Image-2025-10-10-at-4.49.48-PM.jpeg
END:VEVENT
BEGIN:VEVENT
DTSTART;TZID=UTC:20251208T103000
DTEND;TZID=UTC:20251208T113000
DTSTAMP:20260425T172655
CREATED:20251031T122211Z
LAST-MODIFIED:20251031T122211Z
UID:1294-1765189800-1765193400@nycc.uk
SUMMARY:Feel Good Gold
DESCRIPTION:Come and join our brilliant older community every Monday\, 10.30–11.30 a.m. for a session that’s all about moving\, feeling good\, and connecting. \n💪 30 minutes of gentle strength and resistance work – designed to help you stay fit\, strong\, and confident. \n☕ 30 minutes of tea\, coffee\, and chat – because building friendships is just as important as building muscles! \nCome along\, feel good\, get stronger\, and be part of our warm\, welcoming community every Monday at NYCC. 💛 \n📞 To book your place\, call Claire on 07811983823.
URL:https://nycc.uk/event/feel-good-gold-11/
LOCATION:NYCC\, BIRCHIN LANE\, NANTWICH\, CW56ET\, United Kingdom
CATEGORIES:Feel Good Gold
ATTACH;FMTTYPE=image/jpeg:https://nycc.uk/wp-content/uploads/2025/09/WhatsApp-Image-2025-10-10-at-4.49.48-PM.jpeg
END:VEVENT
BEGIN:VEVENT
DTSTART;TZID=UTC:20251201T103000
DTEND;TZID=UTC:20251201T113000
DTSTAMP:20260425T172655
CREATED:20251031T122148Z
LAST-MODIFIED:20251031T122157Z
UID:1293-1764585000-1764588600@nycc.uk
SUMMARY:Feel Good Gold
DESCRIPTION:Come and join our brilliant older community every Monday\, 10.30–11.30 a.m. for a session that’s all about moving\, feeling good\, and connecting. \n💪 30 minutes of gentle strength and resistance work – designed to help you stay fit\, strong\, and confident. \n☕ 30 minutes of tea\, coffee\, and chat – because building friendships is just as important as building muscles! \nCome along\, feel good\, get stronger\, and be part of our warm\, welcoming community every Monday at NYCC. 💛 \n📞 To book your place\, call Claire on 07811983823.
URL:https://nycc.uk/event/feel-good-gold-10/
LOCATION:NYCC\, BIRCHIN LANE\, NANTWICH\, CW56ET\, United Kingdom
CATEGORIES:Feel Good Gold
ATTACH;FMTTYPE=image/jpeg:https://nycc.uk/wp-content/uploads/2025/09/WhatsApp-Image-2025-10-10-at-4.49.48-PM.jpeg
END:VEVENT
BEGIN:VEVENT
DTSTART;TZID=UTC:20251124T103000
DTEND;TZID=UTC:20251124T113000
DTSTAMP:20260425T172655
CREATED:20251031T122124Z
LAST-MODIFIED:20251031T122135Z
UID:1292-1763980200-1763983800@nycc.uk
SUMMARY:Feel Good Gold
DESCRIPTION:Come and join our brilliant older community every Monday\, 10.30–11.30 a.m. for a session that’s all about moving\, feeling good\, and connecting. \n💪 30 minutes of gentle strength and resistance work – designed to help you stay fit\, strong\, and confident. \n☕ 30 minutes of tea\, coffee\, and chat – because building friendships is just as important as building muscles! \nCome along\, feel good\, get stronger\, and be part of our warm\, welcoming community every Monday at NYCC. 💛 \n📞 To book your place\, call Claire on 07811983823.
URL:https://nycc.uk/event/feel-good-gold-9/
LOCATION:NYCC\, BIRCHIN LANE\, NANTWICH\, CW56ET\, United Kingdom
CATEGORIES:Feel Good Gold
ATTACH;FMTTYPE=image/jpeg:https://nycc.uk/wp-content/uploads/2025/09/WhatsApp-Image-2025-10-10-at-4.49.48-PM.jpeg
END:VEVENT
BEGIN:VEVENT
DTSTART;TZID=UTC:20251117T103000
DTEND;TZID=UTC:20251117T113000
DTSTAMP:20260425T172655
CREATED:20251031T122111Z
LAST-MODIFIED:20251031T122111Z
UID:1291-1763375400-1763379000@nycc.uk
SUMMARY:Feel Good Gold
DESCRIPTION:Come and join our brilliant older community every Monday\, 10.30–11.30 a.m. for a session that’s all about moving\, feeling good\, and connecting. \n💪 30 minutes of gentle strength and resistance work – designed to help you stay fit\, strong\, and confident. \n☕ 30 minutes of tea\, coffee\, and chat – because building friendships is just as important as building muscles! \nCome along\, feel good\, get stronger\, and be part of our warm\, welcoming community every Monday at NYCC. 💛 \n📞 To book your place\, call Claire on 07811983823.
URL:https://nycc.uk/event/feel-good-gold-8/
LOCATION:NYCC\, BIRCHIN LANE\, NANTWICH\, CW56ET\, United Kingdom
CATEGORIES:Feel Good Gold
ATTACH;FMTTYPE=image/jpeg:https://nycc.uk/wp-content/uploads/2025/09/WhatsApp-Image-2025-10-10-at-4.49.48-PM.jpeg
END:VEVENT
BEGIN:VEVENT
DTSTART;TZID=UTC:20251110T103000
DTEND;TZID=UTC:20251110T113000
DTSTAMP:20260425T172655
CREATED:20251031T122058Z
LAST-MODIFIED:20251031T122058Z
UID:1290-1762770600-1762774200@nycc.uk
SUMMARY:Feel Good Gold
DESCRIPTION:Come and join our brilliant older community every Monday\, 10.30–11.30 a.m. for a session that’s all about moving\, feeling good\, and connecting. \n💪 30 minutes of gentle strength and resistance work – designed to help you stay fit\, strong\, and confident. \n☕ 30 minutes of tea\, coffee\, and chat – because building friendships is just as important as building muscles! \nCome along\, feel good\, get stronger\, and be part of our warm\, welcoming community every Monday at NYCC. 💛 \n📞 To book your place\, call Claire on 07811983823.
URL:https://nycc.uk/event/feel-good-gold-7/
LOCATION:NYCC\, BIRCHIN LANE\, NANTWICH\, CW56ET\, United Kingdom
CATEGORIES:Feel Good Gold
ATTACH;FMTTYPE=image/jpeg:https://nycc.uk/wp-content/uploads/2025/09/WhatsApp-Image-2025-10-10-at-4.49.48-PM.jpeg
END:VEVENT
BEGIN:VEVENT
DTSTART;TZID=UTC:20251103T103000
DTEND;TZID=UTC:20251103T113000
DTSTAMP:20260425T172655
CREATED:20251031T122051Z
LAST-MODIFIED:20251031T122051Z
UID:1289-1762165800-1762169400@nycc.uk
SUMMARY:Feel Good Gold
DESCRIPTION:Come and join our brilliant older community every Monday\, 10.30–11.30 a.m. for a session that’s all about moving\, feeling good\, and connecting. \n💪 30 minutes of gentle strength and resistance work – designed to help you stay fit\, strong\, and confident. \n☕ 30 minutes of tea\, coffee\, and chat – because building friendships is just as important as building muscles! \nCome along\, feel good\, get stronger\, and be part of our warm\, welcoming community every Monday at NYCC. 💛 \n📞 To book your place\, call Claire on 07811983823.
URL:https://nycc.uk/event/feel-good-gold-6/
LOCATION:NYCC\, BIRCHIN LANE\, NANTWICH\, CW56ET\, United Kingdom
CATEGORIES:Feel Good Gold
ATTACH;FMTTYPE=image/jpeg:https://nycc.uk/wp-content/uploads/2025/09/WhatsApp-Image-2025-10-10-at-4.49.48-PM.jpeg
END:VEVENT
BEGIN:VEVENT
DTSTART;TZID=UTC:20251027T103000
DTEND;TZID=UTC:20251027T113000
DTSTAMP:20260425T172655
CREATED:20250916T161859Z
LAST-MODIFIED:20250916T172220Z
UID:1233-1761561000-1761564600@nycc.uk
SUMMARY:Feel Good Gold
DESCRIPTION:Come and join our brilliant older community every Monday\, 10.30–11.30 a.m. for a session that’s all about moving\, feeling good\, and connecting. \n💪 30 minutes of gentle strength and resistance work – designed to help you stay fit\, strong\, and confident. \n☕ 30 minutes of tea\, coffee\, and chat – because building friendships is just as important as building muscles! \nCome along\, feel good\, get stronger\, and be part of our warm\, welcoming community every Monday at NYCC. 💛 \n📞 To book your place\, call Claire on 07811983823.
URL:https://nycc.uk/event/feel-good-gold-5/
CATEGORIES:Feel Good Gold
ATTACH;FMTTYPE=image/jpeg:https://nycc.uk/wp-content/uploads/2025/09/1BFC0985-4D88-4381-8E62-E345F802A8E6.jpeg
END:VEVENT
BEGIN:VEVENT
DTSTART;TZID=UTC:20251020T103000
DTEND;TZID=UTC:20251020T113000
DTSTAMP:20260425T172655
CREATED:20250916T161541Z
LAST-MODIFIED:20250916T172227Z
UID:1232-1760956200-1760959800@nycc.uk
SUMMARY:Feel Good Gold
DESCRIPTION:Come and join our brilliant older community every Monday\, 10.30–11.30 a.m. for a session that’s all about moving\, feeling good\, and connecting. \n💪 30 minutes of gentle strength and resistance work – designed to help you stay fit\, strong\, and confident. \n☕ 30 minutes of tea\, coffee\, and chat – because building friendships is just as important as building muscles! \nCome along\, feel good\, get stronger\, and be part of our warm\, welcoming community every Monday at NYCC. 💛 \n📞 To book your place\, call Claire on 07811983823.
URL:https://nycc.uk/event/feel-good-gold-4/
CATEGORIES:Feel Good Gold
ATTACH;FMTTYPE=image/jpeg:https://nycc.uk/wp-content/uploads/2025/09/06BCAF70-9F75-4B15-8821-B2CF149A9812.jpeg
END:VEVENT
BEGIN:VEVENT
DTSTART;TZID=UTC:20251013T103000
DTEND;TZID=UTC:20251013T113000
DTSTAMP:20260425T172655
CREATED:20250916T161348Z
LAST-MODIFIED:20251010T161706Z
UID:1231-1760351400-1760355000@nycc.uk
SUMMARY:Feel Good Gold
DESCRIPTION:Come and join our brilliant older community every Monday\, 10.30–11.30 a.m. for a session that’s all about moving\, feeling good\, and connecting. \n💪 30 minutes of gentle strength and resistance work – designed to help you stay fit\, strong\, and confident. \n☕ 30 minutes of tea\, coffee\, and chat – because building friendships is just as important as building muscles! \nCome along\, feel good\, get stronger\, and be part of our warm\, welcoming community every Monday at NYCC. 💛 \n📞 To book your place\, call Claire on 07811983823.
URL:https://nycc.uk/event/feel-good-gold-3/
LOCATION:NYCC\, BIRCHIN LANE\, NANTWICH\, CW56ET\, United Kingdom
CATEGORIES:Feel Good Gold
ATTACH;FMTTYPE=image/jpeg:https://nycc.uk/wp-content/uploads/2025/09/WhatsApp-Image-2025-10-10-at-4.49.48-PM.jpeg
END:VEVENT
BEGIN:VEVENT
DTSTART;TZID=UTC:20251006T103000
DTEND;TZID=UTC:20251006T113000
DTSTAMP:20260425T172655
CREATED:20250916T161207Z
LAST-MODIFIED:20250916T172239Z
UID:1230-1759746600-1759750200@nycc.uk
SUMMARY:Feel Good Gold
DESCRIPTION:Come and join our brilliant older community every Monday\, 10.30–11.30 a.m. for a session that’s all about moving\, feeling good\, and connecting. \n💪 30 minutes of gentle strength and resistance work – designed to help you stay fit\, strong\, and confident. \n☕ 30 minutes of tea\, coffee\, and chat – because building friendships is just as important as building muscles! \nCome along\, feel good\, get stronger\, and be part of our warm\, welcoming community every Monday at NYCC. 💛 \n📞 To book your place\, call Claire on 07811983823.
URL:https://nycc.uk/event/feel-good-gold-2/
LOCATION:NYCC\, BIRCHIN LANE\, NANTWICH\, CW56ET\, United Kingdom
CATEGORIES:Feel Good Gold
ATTACH;FMTTYPE=image/jpeg:https://nycc.uk/wp-content/uploads/2025/09/06BCAF70-9F75-4B15-8821-B2CF149A9812.jpeg
END:VEVENT
BEGIN:VEVENT
DTSTART;TZID=UTC:20250929T103000
DTEND;TZID=UTC:20250929T113000
DTSTAMP:20260425T172655
CREATED:20250916T160739Z
LAST-MODIFIED:20250916T172247Z
UID:1228-1759141800-1759145400@nycc.uk
SUMMARY:Feel Good Gold
DESCRIPTION:Come and join our brilliant older community every Monday\, 10.30–11.30 a.m. for a session that’s all about moving\, feeling good\, and connecting. \n💪 30 minutes of gentle strength and resistance work – designed to help you stay fit\, strong\, and confident. \n☕ 30 minutes of tea\, coffee\, and chat – because building friendships is just as important as building muscles! \nCome along\, feel good\, get stronger\, and be part of our warm\, welcoming community every Monday at NYCC. 💛 \n📞 To book your place\, call Claire on 07811983823.
URL:https://nycc.uk/event/feel-good-gold/
LOCATION:NYCC\, BIRCHIN LANE\, NANTWICH\, CW56ET\, United Kingdom
CATEGORIES:Feel Good Gold
ATTACH;FMTTYPE=image/jpeg:https://nycc.uk/wp-content/uploads/2025/09/IMG_8991-scaled.jpeg
END:VEVENT
END:VCALENDAR