BEGIN:VCALENDAR
VERSION:2.0
PRODID:-//NYCC Nantwich youth and community centre - ECPv6.15.20//NONSGML v1.0//EN
CALSCALE:GREGORIAN
METHOD:PUBLISH
X-WR-CALNAME:NYCC Nantwich youth and community centre
X-ORIGINAL-URL:https://nycc.uk
X-WR-CALDESC:Events for NYCC Nantwich youth and community centre
REFRESH-INTERVAL;VALUE=DURATION:PT1H
X-Robots-Tag:noindex
X-PUBLISHED-TTL:PT1H
BEGIN:VTIMEZONE
TZID:UTC
BEGIN:STANDARD
TZOFFSETFROM:+0000
TZOFFSETTO:+0000
TZNAME:UTC
DTSTART:20250101T000000
END:STANDARD
END:VTIMEZONE
BEGIN:VEVENT
DTSTART;TZID=UTC:20260311T103000
DTEND;TZID=UTC:20260311T113000
DTSTAMP:20260425T135306
CREATED:20260310T101354Z
LAST-MODIFIED:20260310T104706Z
UID:1504-1773225000-1773228600@nycc.uk
SUMMARY:Feel Good Gold
DESCRIPTION:Come and join our brilliant older community every Wednesday\, 10.30–11.30 a.m. for a session that’s all about moving\, feeling good\, and connecting. \n💪 30 minutes of gentle strength and resistance work – designed to help you stay fit\, strong\, and confident. \n☕ 30 minutes of tea\, coffee\, and chat – because building friendships is just as important as building muscles! \nCome along\, feel good\, get stronger\, and be part of our warm\, welcoming community every Monday at NYCC. 💛 \n📞 To book your place\, call Claire on 07811983823.
URL:https://nycc.uk/event/feel-good-gold-29/
LOCATION:NYCC\, BIRCHIN LANE\, NANTWICH\, CW56ET\, United Kingdom
CATEGORIES:Feel Good Gold
ATTACH;FMTTYPE=image/jpeg:https://nycc.uk/wp-content/uploads/2025/12/WhatsApp-Image-2025-12-11-at-2.52.20-PM-SharpenAI-Softness.jpeg
END:VEVENT
BEGIN:VEVENT
DTSTART;TZID=UTC:20260316T103000
DTEND;TZID=UTC:20260316T113000
DTSTAMP:20260425T135306
CREATED:20260310T101548Z
LAST-MODIFIED:20260310T104701Z
UID:1505-1773657000-1773660600@nycc.uk
SUMMARY:Feel Good Gold
DESCRIPTION:Come and join our brilliant older community every Monday\, 10.30–11.30 a.m. for a session that’s all about moving\, feeling good\, and connecting. \n💪 30 minutes of gentle strength and resistance work – designed to help you stay fit\, strong\, and confident. \n☕ 30 minutes of tea\, coffee\, and chat – because building friendships is just as important as building muscles! \nCome along\, feel good\, get stronger\, and be part of our warm\, welcoming community every Monday at NYCC. 💛 \n📞 To book your place\, call Claire on 07811983823.
URL:https://nycc.uk/event/feel-good-gold-30/
LOCATION:NYCC\, BIRCHIN LANE\, NANTWICH\, CW56ET\, United Kingdom
CATEGORIES:Feel Good Gold
ATTACH;FMTTYPE=image/jpeg:https://nycc.uk/wp-content/uploads/2025/09/WhatsApp-Image-2025-10-10-at-4.49.48-PM.jpeg
END:VEVENT
BEGIN:VEVENT
DTSTART;TZID=UTC:20260318T103000
DTEND;TZID=UTC:20260318T113000
DTSTAMP:20260425T135306
CREATED:20260310T101719Z
LAST-MODIFIED:20260310T104657Z
UID:1506-1773829800-1773833400@nycc.uk
SUMMARY:Feel Good Gold
DESCRIPTION:Come and join our brilliant older community every Wednesday\, 10.30–11.30 a.m. for a session that’s all about moving\, feeling good\, and connecting. \n💪 30 minutes of gentle strength and resistance work – designed to help you stay fit\, strong\, and confident. \n☕ 30 minutes of tea\, coffee\, and chat – because building friendships is just as important as building muscles! \nCome along\, feel good\, get stronger\, and be part of our warm\, welcoming community every Monday at NYCC. 💛 \n📞 To book your place\, call Claire on 07811983823.
URL:https://nycc.uk/event/feel-good-gold-31/
LOCATION:NYCC\, BIRCHIN LANE\, NANTWICH\, CW56ET\, United Kingdom
CATEGORIES:Feel Good Gold
ATTACH;FMTTYPE=image/jpeg:https://nycc.uk/wp-content/uploads/2025/12/WhatsApp-Image-2025-12-11-at-2.52.20-PM-SharpenAI-Softness.jpeg
END:VEVENT
BEGIN:VEVENT
DTSTART;TZID=UTC:20260323T103000
DTEND;TZID=UTC:20260323T113000
DTSTAMP:20260425T135306
CREATED:20260310T103025Z
LAST-MODIFIED:20260310T104652Z
UID:1507-1774261800-1774265400@nycc.uk
SUMMARY:Feel Good Gold
DESCRIPTION:Come and join our brilliant older community every Monday\, 10.30–11.30 a.m. for a session that’s all about moving\, feeling good\, and connecting. \n💪 30 minutes of gentle strength and resistance work – designed to help you stay fit\, strong\, and confident. \n☕ 30 minutes of tea\, coffee\, and chat – because building friendships is just as important as building muscles! \nCome along\, feel good\, get stronger\, and be part of our warm\, welcoming community every Monday at NYCC. 💛 \n📞 To book your place\, call Claire on 07811983823.
URL:https://nycc.uk/event/feel-good-gold-32/
LOCATION:NYCC\, BIRCHIN LANE\, NANTWICH\, CW56ET\, United Kingdom
CATEGORIES:Feel Good Gold
ATTACH;FMTTYPE=image/jpeg:https://nycc.uk/wp-content/uploads/2025/12/WhatsApp-Image-2025-12-11-at-2.52.20-PM-SharpenAI-Softness.jpeg
END:VEVENT
BEGIN:VEVENT
DTSTART;TZID=UTC:20260325T103000
DTEND;TZID=UTC:20260325T113000
DTSTAMP:20260425T135306
CREATED:20260310T103255Z
LAST-MODIFIED:20260310T104646Z
UID:1508-1774434600-1774438200@nycc.uk
SUMMARY:Feel Good Gold
DESCRIPTION:Come and join our brilliant older community every Wednesday\, 10.30–11.30 a.m. for a session that’s all about moving\, feeling good\, and connecting. \n💪 30 minutes of gentle strength and resistance work – designed to help you stay fit\, strong\, and confident. \n☕ 30 minutes of tea\, coffee\, and chat – because building friendships is just as important as building muscles! \nCome along\, feel good\, get stronger\, and be part of our warm\, welcoming community every Monday at NYCC. 💛 \n📞 To book your place\, call Claire on 07811983823.
URL:https://nycc.uk/event/feel-good-gold-33/
LOCATION:NYCC\, BIRCHIN LANE\, NANTWICH\, CW56ET\, United Kingdom
CATEGORIES:Feel Good Gold
ATTACH;FMTTYPE=image/jpeg:https://nycc.uk/wp-content/uploads/2025/09/WhatsApp-Image-2025-10-10-at-4.49.48-PM.jpeg
END:VEVENT
BEGIN:VEVENT
DTSTART;TZID=UTC:20260330T103000
DTEND;TZID=UTC:20260330T113000
DTSTAMP:20260425T135306
CREATED:20260310T103443Z
LAST-MODIFIED:20260310T104640Z
UID:1509-1774866600-1774870200@nycc.uk
SUMMARY:Feel Good Gold
DESCRIPTION:Come and join our brilliant older community every Monday\, 10.30–11.30 a.m. for a session that’s all about moving\, feeling good\, and connecting. \n💪 30 minutes of gentle strength and resistance work – designed to help you stay fit\, strong\, and confident. \n☕ 30 minutes of tea\, coffee\, and chat – because building friendships is just as important as building muscles! \nCome along\, feel good\, get stronger\, and be part of our warm\, welcoming community every Monday at NYCC. 💛 \n📞 To book your place\, call Claire on 07811983823.
URL:https://nycc.uk/event/feel-good-gold-34/
LOCATION:NYCC\, BIRCHIN LANE\, NANTWICH\, CW56ET\, United Kingdom
CATEGORIES:Feel Good Gold
ATTACH;FMTTYPE=image/jpeg:https://nycc.uk/wp-content/uploads/2025/12/WhatsApp-Image-2025-12-11-at-2.52.20-PM-SharpenAI-Softness.jpeg
END:VEVENT
END:VCALENDAR