BEGIN:VCALENDAR
VERSION:2.0
PRODID:-//NYCC Nantwich youth and community centre - ECPv6.15.20//NONSGML v1.0//EN
CALSCALE:GREGORIAN
METHOD:PUBLISH
X-WR-CALNAME:NYCC Nantwich youth and community centre
X-ORIGINAL-URL:https://nycc.uk
X-WR-CALDESC:Events for NYCC Nantwich youth and community centre
REFRESH-INTERVAL;VALUE=DURATION:PT1H
X-Robots-Tag:noindex
X-PUBLISHED-TTL:PT1H
BEGIN:VTIMEZONE
TZID:UTC
BEGIN:STANDARD
TZOFFSETFROM:+0000
TZOFFSETTO:+0000
TZNAME:UTC
DTSTART:20250101T000000
END:STANDARD
END:VTIMEZONE
BEGIN:VEVENT
DTSTART;TZID=UTC:20260630T100000
DTEND;TZID=UTC:20260630T140000
DTSTAMP:20260425T113815
CREATED:20260313T121044Z
LAST-MODIFIED:20260313T121044Z
UID:1562-1782813600-1782828000@nycc.uk
SUMMARY:Tuesday Group – Home Educators
DESCRIPTION:Tuesday Group – Home Educators
URL:https://nycc.uk/event/tuesday-group-home-educators-25/
LOCATION:NYCC\, BIRCHIN LANE\, NANTWICH\, CW56ET\, United Kingdom
CATEGORIES:Education
END:VEVENT
BEGIN:VEVENT
DTSTART;TZID=UTC:20260707T100000
DTEND;TZID=UTC:20260707T140000
DTSTAMP:20260425T113815
CREATED:20260313T121111Z
LAST-MODIFIED:20260313T121111Z
UID:1563-1783418400-1783432800@nycc.uk
SUMMARY:Tuesday Group – Home Educators
DESCRIPTION:Tuesday Group – Home Educators
URL:https://nycc.uk/event/tuesday-group-home-educators-26/
LOCATION:NYCC\, BIRCHIN LANE\, NANTWICH\, CW56ET\, United Kingdom
CATEGORIES:Education
END:VEVENT
BEGIN:VEVENT
DTSTART;TZID=UTC:20260714T100000
DTEND;TZID=UTC:20260714T140000
DTSTAMP:20260425T113815
CREATED:20260313T121149Z
LAST-MODIFIED:20260313T121149Z
UID:1564-1784023200-1784037600@nycc.uk
SUMMARY:Tuesday Group – Home Educators
DESCRIPTION:Tuesday Group – Home Educators
URL:https://nycc.uk/event/tuesday-group-home-educators-27/
LOCATION:NYCC\, BIRCHIN LANE\, NANTWICH\, CW56ET\, United Kingdom
CATEGORIES:Education
END:VEVENT
BEGIN:VEVENT
DTSTART;TZID=UTC:20260721T100000
DTEND;TZID=UTC:20260721T140000
DTSTAMP:20260425T113815
CREATED:20260313T121258Z
LAST-MODIFIED:20260313T121413Z
UID:1565-1784628000-1784642400@nycc.uk
SUMMARY:Tuesday Group – Home Educators
DESCRIPTION:Tuesday Group – Home Educators
URL:https://nycc.uk/event/tuesday-group-home-educators-28/
LOCATION:NYCC\, BIRCHIN LANE\, NANTWICH\, CW56ET\, United Kingdom
CATEGORIES:Education
END:VEVENT
END:VCALENDAR