BEGIN:VCALENDAR
VERSION:2.0
PRODID:-//NYCC Nantwich youth and community centre - ECPv6.15.20//NONSGML v1.0//EN
CALSCALE:GREGORIAN
METHOD:PUBLISH
X-WR-CALNAME:NYCC Nantwich youth and community centre
X-ORIGINAL-URL:https://nycc.uk
X-WR-CALDESC:Events for NYCC Nantwich youth and community centre
REFRESH-INTERVAL;VALUE=DURATION:PT1H
X-Robots-Tag:noindex
X-PUBLISHED-TTL:PT1H
BEGIN:VTIMEZONE
TZID:UTC
BEGIN:STANDARD
TZOFFSETFROM:+0000
TZOFFSETTO:+0000
TZNAME:UTC
DTSTART:20240101T000000
END:STANDARD
END:VTIMEZONE
BEGIN:VEVENT
DTSTART;TZID=UTC:20260423T100000
DTEND;TZID=UTC:20260423T140000
DTSTAMP:20260423T155614
CREATED:20260312T134333Z
LAST-MODIFIED:20260312T134333Z
UID:1528-1776938400-1776952800@nycc.uk
SUMMARY:Thursday Group - Home Educators
DESCRIPTION:
URL:https://nycc.uk/event/thursday-group-home-educators-13/
LOCATION:NYCC\, BIRCHIN LANE\, NANTWICH\, CW56ET\, United Kingdom
CATEGORIES:Education
END:VEVENT
BEGIN:VEVENT
DTSTART;TZID=UTC:20260421T100000
DTEND;TZID=UTC:20260421T140000
DTSTAMP:20260423T155614
CREATED:20260313T120356Z
LAST-MODIFIED:20260313T120356Z
UID:1551-1776765600-1776780000@nycc.uk
SUMMARY:Tuesday Group – Home Educators
DESCRIPTION:Tuesday Group – Home Educators
URL:https://nycc.uk/event/tuesday-group-home-educators-15/
LOCATION:NYCC\, BIRCHIN LANE\, NANTWICH\, CW56ET\, United Kingdom
CATEGORIES:Education
END:VEVENT
BEGIN:VEVENT
DTSTART;TZID=UTC:20260414T100000
DTEND;TZID=UTC:20260414T140000
DTSTAMP:20260423T155614
CREATED:20260313T120243Z
LAST-MODIFIED:20260313T120243Z
UID:1550-1776160800-1776175200@nycc.uk
SUMMARY:Tuesday Group – Home Educators
DESCRIPTION:Tuesday Group – Home Educators
URL:https://nycc.uk/event/tuesday-group-home-educators-14/
LOCATION:NYCC\, BIRCHIN LANE\, NANTWICH\, CW56ET\, United Kingdom
CATEGORIES:Education
END:VEVENT
BEGIN:VEVENT
DTSTART;TZID=UTC:20260407T100000
DTEND;TZID=UTC:20260407T140000
DTSTAMP:20260423T155614
CREATED:20260313T120208Z
LAST-MODIFIED:20260407T081515Z
UID:1549-1775556000-1775570400@nycc.uk
SUMMARY:Tuesday Group – Home Educators
DESCRIPTION:Tuesday Group – Home Educators
URL:https://nycc.uk/event/tuesday-group-home-educators-13/
LOCATION:NYCC\, BIRCHIN LANE\, NANTWICH\, CW56ET\, United Kingdom
CATEGORIES:Education
END:VEVENT
BEGIN:VEVENT
DTSTART;TZID=UTC:20260331T100000
DTEND;TZID=UTC:20260331T140000
DTSTAMP:20260423T155614
CREATED:20260127T181158Z
LAST-MODIFIED:20260127T181158Z
UID:1436-1774951200-1774965600@nycc.uk
SUMMARY:Tuesday Group – Home Educators
DESCRIPTION:Tuesday Group – Home Educators
URL:https://nycc.uk/event/tuesday-group-home-educators-12/
LOCATION:NYCC\, BIRCHIN LANE\, NANTWICH\, CW56ET\, United Kingdom
CATEGORIES:Education
END:VEVENT
BEGIN:VEVENT
DTSTART;TZID=UTC:20260326T100000
DTEND;TZID=UTC:20260326T140000
DTSTAMP:20260423T155614
CREATED:20251205T135715Z
LAST-MODIFIED:20251205T135715Z
UID:1362-1774519200-1774533600@nycc.uk
SUMMARY:Thursday Group - Home Educators
DESCRIPTION:
URL:https://nycc.uk/event/thursday-group-home-educators-12/
LOCATION:NYCC\, BIRCHIN LANE\, NANTWICH\, CW56ET\, United Kingdom
CATEGORIES:Education
END:VEVENT
BEGIN:VEVENT
DTSTART;TZID=UTC:20260324T100000
DTEND;TZID=UTC:20260324T170000
DTSTAMP:20260423T155614
CREATED:20260127T181124Z
LAST-MODIFIED:20260127T181124Z
UID:1435-1774346400-1774371600@nycc.uk
SUMMARY:Tuesday Group – Home Educators
DESCRIPTION:Tuesday Group – Home Educators
URL:https://nycc.uk/event/tuesday-group-home-educators-11/
LOCATION:NYCC\, BIRCHIN LANE\, NANTWICH\, CW56ET\, United Kingdom
CATEGORIES:Education
END:VEVENT
BEGIN:VEVENT
DTSTART;TZID=UTC:20260317T100000
DTEND;TZID=UTC:20260317T140000
DTSTAMP:20260423T155614
CREATED:20260127T181017Z
LAST-MODIFIED:20260127T181017Z
UID:1434-1773741600-1773756000@nycc.uk
SUMMARY:Tuesday Group – Home Educators
DESCRIPTION:Tuesday Group – Home Educators
URL:https://nycc.uk/event/tuesday-group-home-educators-10/
LOCATION:NYCC\, BIRCHIN LANE\, NANTWICH\, CW56ET\, United Kingdom
CATEGORIES:Education
END:VEVENT
BEGIN:VEVENT
DTSTART;TZID=UTC:20260312T100000
DTEND;TZID=UTC:20260312T140000
DTSTAMP:20260423T155614
CREATED:20251205T135641Z
LAST-MODIFIED:20251205T135641Z
UID:1361-1773309600-1773324000@nycc.uk
SUMMARY:Thursday Group - Home Educators
DESCRIPTION:
URL:https://nycc.uk/event/thursday-group-home-educators-11/
LOCATION:NYCC\, BIRCHIN LANE\, NANTWICH\, CW56ET\, United Kingdom
CATEGORIES:Education
END:VEVENT
BEGIN:VEVENT
DTSTART;TZID=UTC:20260310T100000
DTEND;TZID=UTC:20260310T140000
DTSTAMP:20260423T155614
CREATED:20260127T180927Z
LAST-MODIFIED:20260127T180927Z
UID:1433-1773136800-1773151200@nycc.uk
SUMMARY:Tuesday Group – Home Educators
DESCRIPTION:Tuesday Group – Home Educators
URL:https://nycc.uk/event/tuesday-group-home-educators-9/
LOCATION:NYCC\, BIRCHIN LANE\, NANTWICH\, CW56ET\, United Kingdom
CATEGORIES:Education
END:VEVENT
BEGIN:VEVENT
DTSTART;TZID=UTC:20260303T100000
DTEND;TZID=UTC:20260303T140000
DTSTAMP:20260423T155614
CREATED:20260127T180903Z
LAST-MODIFIED:20260127T180903Z
UID:1432-1772532000-1772546400@nycc.uk
SUMMARY:Tuesday Group – Home Educators
DESCRIPTION:Tuesday Group – Home Educators
URL:https://nycc.uk/event/tuesday-group-home-educators-8/
LOCATION:NYCC\, BIRCHIN LANE\, NANTWICH\, CW56ET\, United Kingdom
CATEGORIES:Education
END:VEVENT
BEGIN:VEVENT
DTSTART;TZID=UTC:20260226T100000
DTEND;TZID=UTC:20260226T140000
DTSTAMP:20260423T155614
CREATED:20251205T135523Z
LAST-MODIFIED:20251205T135523Z
UID:1360-1772100000-1772114400@nycc.uk
SUMMARY:Thursday Group - Home Educators
DESCRIPTION:
URL:https://nycc.uk/event/thursday-group-home-educators-10/
LOCATION:NYCC\, BIRCHIN LANE\, NANTWICH\, CW56ET\, United Kingdom
CATEGORIES:Education
END:VEVENT
BEGIN:VEVENT
DTSTART;TZID=UTC:20260224T100000
DTEND;TZID=UTC:20260224T140000
DTSTAMP:20260423T155614
CREATED:20260127T174429Z
LAST-MODIFIED:20260127T174429Z
UID:1429-1771927200-1771941600@nycc.uk
SUMMARY:Tuesday Group – Home Educators
DESCRIPTION:Tuesday Group – Home Educators
URL:https://nycc.uk/event/tuesday-group-home-educators-6/
LOCATION:NYCC\, BIRCHIN LANE\, NANTWICH\, CW56ET\, United Kingdom
CATEGORIES:Education
END:VEVENT
BEGIN:VEVENT
DTSTART;TZID=UTC:20260217T100000
DTEND;TZID=UTC:20260217T140000
DTSTAMP:20260423T155614
CREATED:20260127T180714Z
LAST-MODIFIED:20260127T180733Z
UID:1431-1771322400-1771336800@nycc.uk
SUMMARY:Tuesday Group – Home Educators
DESCRIPTION:Tuesday Group – Home Educators
URL:https://nycc.uk/event/tuesday-group-home-educators-7/
LOCATION:NYCC\, BIRCHIN LANE\, NANTWICH\, CW56ET\, United Kingdom
CATEGORIES:Education
END:VEVENT
BEGIN:VEVENT
DTSTART;TZID=UTC:20260212T100000
DTEND;TZID=UTC:20260212T140000
DTSTAMP:20260423T155614
CREATED:20251205T135444Z
LAST-MODIFIED:20251205T135530Z
UID:1359-1770890400-1770904800@nycc.uk
SUMMARY:Thursday Group - Home Educators
DESCRIPTION:
URL:https://nycc.uk/event/thursday-group-home-educators-9/
LOCATION:NYCC\, BIRCHIN LANE\, NANTWICH\, CW56ET\, United Kingdom
CATEGORIES:Education
END:VEVENT
BEGIN:VEVENT
DTSTART;TZID=UTC:20260210T100000
DTEND;TZID=UTC:20260210T140000
DTSTAMP:20260423T155614
CREATED:20260127T174337Z
LAST-MODIFIED:20260127T174337Z
UID:1428-1770717600-1770732000@nycc.uk
SUMMARY:Tuesday Group – Home Educators
DESCRIPTION:Tuesday Group – Home Educators
URL:https://nycc.uk/event/tuesday-group-home-educators-5/
LOCATION:NYCC\, BIRCHIN LANE\, NANTWICH\, CW56ET\, United Kingdom
CATEGORIES:Education
END:VEVENT
BEGIN:VEVENT
DTSTART;TZID=UTC:20260203T100000
DTEND;TZID=UTC:20260203T140000
DTSTAMP:20260423T155614
CREATED:20260127T174236Z
LAST-MODIFIED:20260127T174236Z
UID:1427-1770112800-1770127200@nycc.uk
SUMMARY:Tuesday Group – Home Educators
DESCRIPTION:Tuesday Group – Home Educators
URL:https://nycc.uk/event/tuesday-group-home-educators-4/
LOCATION:NYCC\, BIRCHIN LANE\, NANTWICH\, CW56ET\, United Kingdom
CATEGORIES:Education
END:VEVENT
BEGIN:VEVENT
DTSTART;TZID=UTC:20260129T100000
DTEND;TZID=UTC:20260129T140000
DTSTAMP:20260423T155614
CREATED:20251205T135411Z
LAST-MODIFIED:20251205T135411Z
UID:1358-1769680800-1769695200@nycc.uk
SUMMARY:Thursday Group - Home Educators
DESCRIPTION:
URL:https://nycc.uk/event/thursday-group-home-educators-8/
LOCATION:NYCC\, BIRCHIN LANE\, NANTWICH\, CW56ET\, United Kingdom
CATEGORIES:Education
END:VEVENT
BEGIN:VEVENT
DTSTART;TZID=UTC:20260127T100000
DTEND;TZID=UTC:20260127T140000
DTSTAMP:20260423T155614
CREATED:20260108T135226Z
LAST-MODIFIED:20260108T135226Z
UID:1407-1769508000-1769522400@nycc.uk
SUMMARY:Tuesday Group – Home Educators
DESCRIPTION:Tuesday Group – Home Educators
URL:https://nycc.uk/event/tuesday-group-home-educators-3/
LOCATION:NYCC\, BIRCHIN LANE\, NANTWICH\, CW56ET\, United Kingdom
CATEGORIES:Education
END:VEVENT
BEGIN:VEVENT
DTSTART;TZID=UTC:20260120T100000
DTEND;TZID=UTC:20260120T140000
DTSTAMP:20260423T155614
CREATED:20260108T135151Z
LAST-MODIFIED:20260108T135151Z
UID:1406-1768903200-1768917600@nycc.uk
SUMMARY:Tuesday Group – Home Educators
DESCRIPTION:Tuesday Group – Home Educators
URL:https://nycc.uk/event/tuesday-group-home-educators-2/
LOCATION:NYCC\, BIRCHIN LANE\, NANTWICH\, CW56ET\, United Kingdom
CATEGORIES:Education
END:VEVENT
BEGIN:VEVENT
DTSTART;TZID=UTC:20260115T100000
DTEND;TZID=UTC:20260115T140000
DTSTAMP:20260423T155614
CREATED:20251205T135320Z
LAST-MODIFIED:20251205T135320Z
UID:1357-1768471200-1768485600@nycc.uk
SUMMARY:Thursday Group - Home Educators
DESCRIPTION:
URL:https://nycc.uk/event/thursday-group-home-educators-7/
LOCATION:NYCC\, BIRCHIN LANE\, NANTWICH\, CW56ET\, United Kingdom
CATEGORIES:Education
END:VEVENT
BEGIN:VEVENT
DTSTART;TZID=UTC:20260113T100000
DTEND;TZID=UTC:20260113T140000
DTSTAMP:20260423T155614
CREATED:20260108T135047Z
LAST-MODIFIED:20260108T135047Z
UID:1405-1768298400-1768312800@nycc.uk
SUMMARY:Tuesday Group – Home Educators
DESCRIPTION:Tuesday Group – Home Educators
URL:https://nycc.uk/event/tuesday-group-home-educators/
LOCATION:NYCC\, BIRCHIN LANE\, NANTWICH\, CW56ET\, United Kingdom
CATEGORIES:Education
END:VEVENT
BEGIN:VEVENT
DTSTART;TZID=UTC:20251209T100000
DTEND;TZID=UTC:20251209T140000
DTSTAMP:20260423T155614
CREATED:20250903T180837Z
LAST-MODIFIED:20250903T180926Z
UID:1198-1765274400-1765288800@nycc.uk
SUMMARY:Home Educators | Christmas/Yule: Quiet & Stillness in Nature
DESCRIPTION:A group of home-educating families who come together to learn\, grow\, and connect with play\, curiosity\, and nature at the heart of everything we do. \nFor details on specific sessions or to join our friendly group\, please get in touch.
URL:https://nycc.uk/event/home-educators-christmas-yule-quiet-stillness-in-nature/
LOCATION:NYCC\, BIRCHIN LANE\, NANTWICH\, CW56ET\, United Kingdom
CATEGORIES:Education
END:VEVENT
BEGIN:VEVENT
DTSTART;TZID=UTC:20251204T100000
DTEND;TZID=UTC:20251204T140000
DTSTAMP:20260423T155614
CREATED:20251029T100533Z
LAST-MODIFIED:20251029T100533Z
UID:1287-1764842400-1764856800@nycc.uk
SUMMARY:Thursday Group - Home Educators
DESCRIPTION:
URL:https://nycc.uk/event/thursday-group-home-educators-6/
LOCATION:NYCC\, BIRCHIN LANE\, NANTWICH\, CW56ET\, United Kingdom
CATEGORIES:Education
END:VEVENT
BEGIN:VEVENT
DTSTART;TZID=UTC:20251202T100000
DTEND;TZID=UTC:20251202T140000
DTSTAMP:20260423T155614
CREATED:20250903T180738Z
LAST-MODIFIED:20250903T180928Z
UID:1197-1764669600-1764684000@nycc.uk
SUMMARY:Home Educators | Christmas Pea Fayre (Open) & ❄️ Winter Survival
DESCRIPTION:A group of home-educating families who come together to learn\, grow\, and connect with play\, curiosity\, and nature at the heart of everything we do. \nFor details on specific sessions or to join our friendly group\, please get in touch.
URL:https://nycc.uk/event/home-educators-christmas-pea-fayre-open-%e2%9d%84%ef%b8%8f-winter-survival/
LOCATION:NYCC\, BIRCHIN LANE\, NANTWICH\, CW56ET\, United Kingdom
CATEGORIES:Education
END:VEVENT
BEGIN:VEVENT
DTSTART;TZID=UTC:20251120T100000
DTEND;TZID=UTC:20251120T140000
DTSTAMP:20260423T155614
CREATED:20251029T100451Z
LAST-MODIFIED:20251029T100451Z
UID:1286-1763632800-1763647200@nycc.uk
SUMMARY:Thursday Group - Home Educators
DESCRIPTION:
URL:https://nycc.uk/event/thursday-group-home-educators-5/
LOCATION:NYCC\, BIRCHIN LANE\, NANTWICH\, CW56ET\, United Kingdom
CATEGORIES:Education
END:VEVENT
BEGIN:VEVENT
DTSTART;TZID=UTC:20251118T100000
DTEND;TZID=UTC:20251118T140000
DTSTAMP:20260423T155614
CREATED:20250903T180156Z
LAST-MODIFIED:20250903T180156Z
UID:1195-1763460000-1763474400@nycc.uk
SUMMARY:Home Educators | Late Autumn Focus: Animal Survival Strategies
DESCRIPTION:A group of home-educating families who come together to learn\, grow\, and connect with play\, curiosity\, and nature at the heart of everything we do. \nFor details on specific sessions or to join our friendly group\, please get in touch.
URL:https://nycc.uk/event/home-educators-late-autumn-focus-animal-survival-strategies/
LOCATION:NYCC\, BIRCHIN LANE\, NANTWICH\, CW56ET\, United Kingdom
CATEGORIES:Education
END:VEVENT
BEGIN:VEVENT
DTSTART;TZID=UTC:20251111T100000
DTEND;TZID=UTC:20251111T140000
DTSTAMP:20260423T155614
CREATED:20250903T180031Z
LAST-MODIFIED:20250903T180041Z
UID:1193-1762855200-1762869600@nycc.uk
SUMMARY:Home Educators | Late Autumn Focus: Telling Time Through Nature
DESCRIPTION:A group of home-educating families who come together to learn\, grow\, and connect with play\, curiosity\, and nature at the heart of everything we do. \nFor details on specific sessions or to join our friendly group\, please get in touch.
URL:https://nycc.uk/event/home-educators-late-autumn-focus-telling-time-through-nature/
LOCATION:NYCC\, BIRCHIN LANE\, NANTWICH\, CW56ET\, United Kingdom
CATEGORIES:Education
END:VEVENT
BEGIN:VEVENT
DTSTART;TZID=UTC:20251106T100000
DTEND;TZID=UTC:20251106T140000
DTSTAMP:20260423T155614
CREATED:20251029T100415Z
LAST-MODIFIED:20251029T100415Z
UID:1285-1762423200-1762437600@nycc.uk
SUMMARY:Thursday Group - Home Educators
DESCRIPTION:
URL:https://nycc.uk/event/thursday-group-home-educators-4/
LOCATION:NYCC\, BIRCHIN LANE\, NANTWICH\, CW56ET\, United Kingdom
CATEGORIES:Education
END:VEVENT
BEGIN:VEVENT
DTSTART;TZID=UTC:20251104T100000
DTEND;TZID=UTC:20251104T140000
DTSTAMP:20260423T155614
CREATED:20250903T180014Z
LAST-MODIFIED:20250903T180014Z
UID:1192-1762250400-1762264800@nycc.uk
SUMMARY:Home Educators | Late Autumn Focus: Changing Landscapes
DESCRIPTION:A group of home-educating families who come together to learn\, grow\, and connect with play\, curiosity\, and nature at the heart of everything we do. \nFor details on specific sessions or to join our friendly group\, please get in touch.
URL:https://nycc.uk/event/home-educators-late-autumn-focus-changing-landscapes/
LOCATION:NYCC\, BIRCHIN LANE\, NANTWICH\, CW56ET\, United Kingdom
CATEGORIES:Education
END:VEVENT
END:VCALENDAR