BEGIN:VCALENDAR
VERSION:2.0
PRODID:-//NYCC Nantwich youth and community centre - ECPv6.15.20//NONSGML v1.0//EN
CALSCALE:GREGORIAN
METHOD:PUBLISH
X-ORIGINAL-URL:https://nycc.uk
X-WR-CALDESC:Events for NYCC Nantwich youth and community centre
REFRESH-INTERVAL;VALUE=DURATION:PT1H
X-Robots-Tag:noindex
X-PUBLISHED-TTL:PT1H
BEGIN:VTIMEZONE
TZID:UTC
BEGIN:STANDARD
TZOFFSETFROM:+0000
TZOFFSETTO:+0000
TZNAME:UTC
DTSTART:20250101T000000
END:STANDARD
END:VTIMEZONE
BEGIN:VEVENT
DTSTART;TZID=UTC:20260316T174500
DTEND;TZID=UTC:20260316T210000
DTSTAMP:20260425T121317
CREATED:20260220T102517Z
LAST-MODIFIED:20260220T103858Z
UID:1494-1773683100-1773694800@nycc.uk
SUMMARY:38th SWC Beavers\, Cubs and Scouts
DESCRIPTION:📅 When: Every Monday in term time (except UK public and bank holidays)\n🕕 Times: Monday March 16th | 5:45 – 9:00 pm \nBeavers (ages 6–8): 6:00 – 7:00 pm \nCubs (ages 8–10½): 6:45 – 8:00 pm \nScouts (ages 10½–14): 7:00 – 9:00 pm\nExplorer Scouts are available (14-18yo)\, but they are managed by South West Cheshire Scout District (South West Cheshire Scouts | South West Cheshire Scouts) \n🏠 Where: Nantwich Youth & Community Centre (Hall open from 5:45 pm for setup) \nJoin the 3rd Nantwich (38th South West Cheshire) Scout Group for an exciting weekly session at NYCC! \nEach evening is packed with fun\, skill-building\, and teamwork as young people take part in activities designed to build confidence\, independence\, and friendship in a supportive environment. \nMembers work towards awards such as the Chief Scout Bronze\, Silver\, and Gold\, earning challenge badges (Adventure\, Skills\, World\, Personal) and activity badges like Athlete\, Chef\, and Modelmaker along the way. \nBeyond weekly meetings\, Scouts enjoy adventures including camping\, kayaking\, sailing\, archery\, skiing\, and community projects such as litter picks and local events like the Remembrance Day Parade. \n👕 What to Know: \nUniforms: Available from the Scout & Guide Shop\, 131 Bedford Street\, Crewe (Scout Shop | South West Cheshire Scouts). \nCost: £16 per month (covers membership\, insurance\, and weekly activities). Camps and special outings are priced individually. \nSafeguarding: All leaders are volunteers with enhanced DBS checks and training in Safeguarding\, Safety\, GDPR\, and First Aid. \nHere is a Link to the Scouts may-2025-update-to-por-no-marked-changes \nHere is a link to the Welcome-pack2023-v2.1-1. \nInclusivity: Open to all\, regardless of gender\, background\, or ability. \nVolunteering: Parents and carers are welcome to help with leadership\, governance\, fundraising\, or sharing skills. \n💬 Get Involved: \nVisit the 3rd Nantwich (38th South West Cheshire) Scout Group website\n for more information or to register interest. \nYou can also reach out via the group’s Facebook page\n. \nEach section has a parent WhatsApp group for non-sensitive updates and communication. \n📌 Please note: The NYCC hall is reserved from 5:45 pm to 9:00 pm for setup and pack-down.
URL:https://nycc.uk/event/38th-swc-beavers-cubs-and-scouts-17/
LOCATION:NYCC\, BIRCHIN LANE\, NANTWICH\, CW56ET\, United Kingdom
CATEGORIES:Club Scouts
ATTACH;FMTTYPE=image/jpeg:https://nycc.uk/wp-content/uploads/2025/09/smiling-beavers.jpg
END:VEVENT
END:VCALENDAR