BEGIN:VCALENDAR
VERSION:2.0
PRODID:-//NYCC Nantwich youth and community centre - ECPv6.15.20//NONSGML v1.0//EN
CALSCALE:GREGORIAN
METHOD:PUBLISH
X-WR-CALNAME:NYCC Nantwich youth and community centre
X-ORIGINAL-URL:https://nycc.uk
X-WR-CALDESC:Events for NYCC Nantwich youth and community centre
REFRESH-INTERVAL;VALUE=DURATION:PT1H
X-Robots-Tag:noindex
X-PUBLISHED-TTL:PT1H
BEGIN:VTIMEZONE
TZID:UTC
BEGIN:STANDARD
TZOFFSETFROM:+0000
TZOFFSETTO:+0000
TZNAME:UTC
DTSTART:20250101T000000
END:STANDARD
END:VTIMEZONE
BEGIN:VEVENT
DTSTART;TZID=UTC:20260422T103000
DTEND;TZID=UTC:20260422T113000
DTSTAMP:20260423T081610
CREATED:20260407T135300Z
LAST-MODIFIED:20260407T135300Z
UID:1599-1776853800-1776857400@nycc.uk
SUMMARY:Feel Good Gold
DESCRIPTION:Come and join our brilliant older community every Wednesday\, 10.30–11.30 a.m. for a session that’s all about moving\, feeling good\, and connecting. \n💪 30 minutes of gentle strength and resistance work – designed to help you stay fit\, strong\, and confident. \n☕ 30 minutes of tea\, coffee\, and chat – because building friendships is just as important as building muscles! \nCome along\, feel good\, get stronger\, and be part of our warm\, welcoming community every Monday at NYCC. 💛 \n📞 To book your place\, call Claire on 07811983823.
URL:https://nycc.uk/event/feel-good-gold-38/
LOCATION:NYCC\, BIRCHIN LANE\, NANTWICH\, CW56ET\, United Kingdom
CATEGORIES:Feel Good Gold
ATTACH;FMTTYPE=image/jpeg:https://nycc.uk/wp-content/uploads/2025/12/WhatsApp-Image-2025-12-11-at-2.52.20-PM-SharpenAI-Softness.jpeg
END:VEVENT
BEGIN:VEVENT
DTSTART;TZID=UTC:20260422T174500
DTEND;TZID=UTC:20260422T191500
DTSTAMP:20260423T081610
CREATED:20260311T090855Z
LAST-MODIFIED:20260407T082045Z
UID:1513-1776879900-1776885300@nycc.uk
SUMMARY:NYCC Junior Youth Club | National Gardening Month
DESCRIPTION:There’s something for everyone at Junior Youth Club. Pool\, snooker\, table tennis\, table football\, board games\, book swap\, PlayStation 5 gaming\, WiFi\, outdoor courts\, sports hall\, a well-being room\, a learning kitchen\, and our pop-up cinema. \nThis session links to National Gardening Month. Children can take part in a simple planting activity during the session. \n👉 Plus\, enjoy all the usual games\, team sports\, and activities at the club. \n🗓 Date: Wednesday 22 April\n🕕 Time: 5:45 PM – 7:15 PM\n📍 Where: Nantwich Youth & Community Centre\n👧👦 Ages: 8 to 12 (Junior Youth Club) \n💷 Suggested donation per session: £2\n🎟 Club membership: £5 per year – sign up on our\nJoin Us page.
URL:https://nycc.uk/event/nycc-junior-youth-club-national-gardening-month/
LOCATION:NYCC\, BIRCHIN LANE\, NANTWICH\, CW56ET\, United Kingdom
CATEGORIES:Club activity
ATTACH;FMTTYPE=image/jpeg:https://nycc.uk/wp-content/uploads/2026/03/jonathan-kemper-VTXw4_5SsNA-unsplash-scaled.jpg
END:VEVENT
BEGIN:VEVENT
DTSTART;TZID=UTC:20260422T191500
DTEND;TZID=UTC:20260422T210000
DTSTAMP:20260423T081610
CREATED:20260313T140102Z
LAST-MODIFIED:20260407T082050Z
UID:1568-1776885300-1776891600@nycc.uk
SUMMARY:NYCC | School Of Rock
DESCRIPTION:Love music? Always wanted to try an instrument? Or just want to hang out with other music fans? 🎶\nSchool of Rock is open to everyone\, whether you already play\, sing\, or just love listening. \nCome along\, plug in\, or simply join the vibe. Meet new people\, get inspired\, and have a go at making çmusic in a friendly\, no-pressure space. Instruments are welcome but not required\, curiosity and good energy are all you need. \n✨ A line-up of guest musicians and workshops will be announced soon\, so keep an eye out. \n🗓 Date: Wednesday 22nd April\n🕖 Time: 7:15 PM – 9:00 PM\n📍 Where: Nantwich Youth & Community Ceçntre\n👥 Ages: 13+ \n🎵 No pressure. No auditions. No experience needed. Just good vibes and a chance to be part of something new. \n🎟 Club membership: £5 per year | Sign up on our Join Us page.\nSuggested Donation per session: £2
URL:https://nycc.uk/event/nycc-school-of-rock-37/
LOCATION:NYCC\, BIRCHIN LANE\, NANTWICH\, CW56ET\, United Kingdom
CATEGORIES:School of Rock
ATTACH;FMTTYPE=image/png:https://nycc.uk/wp-content/uploads/2026/01/image0.png
END:VEVENT
END:VCALENDAR