BEGIN:VCALENDAR
VERSION:2.0
PRODID:-//NYCC Nantwich youth and community centre - ECPv6.15.20//NONSGML v1.0//EN
CALSCALE:GREGORIAN
METHOD:PUBLISH
X-ORIGINAL-URL:https://nycc.uk
X-WR-CALDESC:Events for NYCC Nantwich youth and community centre
REFRESH-INTERVAL;VALUE=DURATION:PT1H
X-Robots-Tag:noindex
X-PUBLISHED-TTL:PT1H
BEGIN:VTIMEZONE
TZID:UTC
BEGIN:STANDARD
TZOFFSETFROM:+0000
TZOFFSETTO:+0000
TZNAME:UTC
DTSTART:20240101T000000
END:STANDARD
END:VTIMEZONE
BEGIN:VEVENT
DTSTART;TZID=UTC:20251119T174500
DTEND;TZID=UTC:20251119T191500
DTSTAMP:20260425T120454
CREATED:20251103T094622Z
LAST-MODIFIED:20251103T105957Z
UID:1312-1763574300-1763579700@nycc.uk
SUMMARY:NYCC Junior Youth Club | Sugar Awareness Week | Autumn Baking: Oaty Cookies
DESCRIPTION:There’s something for everyone at Junior Youth Club. Pool\, snooker\, table tennis\, table football\, board games\, book swap\, PlayStation 5 gaming\, WiFi\, outdoor courts\, sports hall\, a well-being room\, a learning kitchen\, and even our own pop-up cinema. \nHead to the Learning Kitchen for a healthy baking session! We’ll be making tasty oaty cookies while learning about sugar awareness and balanced treats. \n👉 Plus\, enjoy all the usual games and activities at the club. \nPlayStation 5 with games \n🗓 Date: Wednesday 19th November\n🕕 Time: 5:45 PM – 7:15 PM\n📍 Where: Nantwich Youth & Community Centre\n👧👦 Ages: 8 to 12 (Junior Youth Club) \n💷 Suggested Donation per session: £2\n🎟 Club membership: £5 per year – sign up on our Join Us page.
URL:https://nycc.uk/event/nycc-junior-youth-club-sugar-awareness-week-autumn-baking-oaty-cookies/
LOCATION:NYCC\, BIRCHIN LANE\, NANTWICH\, CW56ET\, United Kingdom
CATEGORIES:Club activity
ATTACH;FMTTYPE=image/jpeg:https://nycc.uk/wp-content/uploads/2025/11/elena-leya-UE_Nl6Necnk-unsplash-scaled.jpg
END:VEVENT
BEGIN:VEVENT
DTSTART;TZID=UTC:20251119T191500
DTEND;TZID=UTC:20251119T210000
DTSTAMP:20260425T120454
CREATED:20251104T102359Z
LAST-MODIFIED:20251205T134157Z
UID:1318-1763579700-1763586000@nycc.uk
SUMMARY:NYCC | School Of Rock
DESCRIPTION:Love music? Always wanted to try an instrument? Or just want to hang out with other music fans? 🎶\nSchool of Rock is open to everyone\, whether you already play\, sing\, or just love listening. \nCome along\, plug in\, or simply join the vibe. Meet new people\, get inspired\, and have a go at making music in a friendly\, no-pressure space. Instruments are welcome but not required\, curiosity and good energy are all you need. \n✨ A line-up of guest musicians and workshops will be announced soon\, so keep an eye out. \n🗓 Date: November 19th\n🕖 Time: 7:15 PM – 9:00 PM\n📍 Where: Nantwich Youth & Community Centre\n👥 Ages: 13+ \n🎵 No pressure. No auditions. No experience needed. Just good vibes and a chance to be part of something new. \n🎟 Club membership: £5 per year | Sign up on our Join Us page.\nSuggested Donation per session: £2
URL:https://nycc.uk/event/nycc-school-of-rock-week-14/
LOCATION:NYCC\, BIRCHIN LANE\, NANTWICH\, CW56ET\, United Kingdom
CATEGORIES:School of Rock
ATTACH;FMTTYPE=image/jpeg:https://nycc.uk/wp-content/uploads/2025/09/ingridi-alves-photograph-yePWDGPUWO0-unsplash-scaled.jpg
END:VEVENT
END:VCALENDAR