BEGIN:VCALENDAR
VERSION:2.0
PRODID:-//NYCC Nantwich youth and community centre - ECPv6.15.20//NONSGML v1.0//EN
CALSCALE:GREGORIAN
METHOD:PUBLISH
X-ORIGINAL-URL:https://nycc.uk
X-WR-CALDESC:Events for NYCC Nantwich youth and community centre
REFRESH-INTERVAL;VALUE=DURATION:PT1H
X-Robots-Tag:noindex
X-PUBLISHED-TTL:PT1H
BEGIN:VTIMEZONE
TZID:UTC
BEGIN:STANDARD
TZOFFSETFROM:+0000
TZOFFSETTO:+0000
TZNAME:UTC
DTSTART:20240101T000000
END:STANDARD
END:VTIMEZONE
BEGIN:VEVENT
DTSTART;TZID=UTC:20251114T174500
DTEND;TZID=UTC:20251114T191500
DTSTAMP:20260423T151958
CREATED:20251103T094007Z
LAST-MODIFIED:20251103T094007Z
UID:1310-1763142300-1763147700@nycc.uk
SUMMARY:NYCC Junior Youth Club | World Kindness Day: Kindness Jar Activity
DESCRIPTION:There’s something for everyone at Junior Youth Club. Pool\, snooker\, table tennis\, table football\, board games\, book swap\, PlayStation 5 gaming\, WiFi\, outdoor courts\, sports hall\, a well-being room\, a learning kitchen\, and even our own pop-up cinema. \nCelebrate World Kindness Day by adding your own positive messages and good deeds to our Kindness Jar. Let’s fill it with smiles and inspiration! \n👉 Plus\, enjoy all the usual games and activities at the club. \nPlayStation 5 with games \n🗓 Date: Friday 14th November\n🕕 Time: 5:45 PM – 7:15 PM\n📍 Where: Nantwich Youth & Community Centre\n👧👦 Ages: 8 to 12 (Junior Youth Club) \n💷 Suggested Donation per session: £2\n🎟 Club membership: £5 per year – sign up on our Join Us page.
URL:https://nycc.uk/event/nycc-junior-youth-club-world-kindness-day-kindness-jar-activity/
LOCATION:NYCC\, BIRCHIN LANE\, NANTWICH\, CW56ET\, United Kingdom
CATEGORIES:Club activity
ATTACH;FMTTYPE=image/webp:https://nycc.uk/wp-content/uploads/2025/11/ECBCDOLRNZF3JMK6L7XWCZD2SU.webp
END:VEVENT
END:VCALENDAR