BEGIN:VCALENDAR
VERSION:2.0
PRODID:-//NYCC Nantwich youth and community centre - ECPv6.15.20//NONSGML v1.0//EN
CALSCALE:GREGORIAN
METHOD:PUBLISH
X-ORIGINAL-URL:https://nycc.uk
X-WR-CALDESC:Events for NYCC Nantwich youth and community centre
REFRESH-INTERVAL;VALUE=DURATION:PT1H
X-Robots-Tag:noindex
X-PUBLISHED-TTL:PT1H
BEGIN:VTIMEZONE
TZID:UTC
BEGIN:STANDARD
TZOFFSETFROM:+0000
TZOFFSETTO:+0000
TZNAME:UTC
DTSTART:20240101T000000
END:STANDARD
END:VTIMEZONE
BEGIN:VEVENT
DTSTART;TZID=UTC:20251104T100000
DTEND;TZID=UTC:20251104T140000
DTSTAMP:20260423T175116
CREATED:20250903T180014Z
LAST-MODIFIED:20250903T180014Z
UID:1192-1762250400-1762264800@nycc.uk
SUMMARY:Home Educators | Late Autumn Focus: Changing Landscapes
DESCRIPTION:A group of home-educating families who come together to learn\, grow\, and connect with play\, curiosity\, and nature at the heart of everything we do. \nFor details on specific sessions or to join our friendly group\, please get in touch.
URL:https://nycc.uk/event/home-educators-late-autumn-focus-changing-landscapes/
LOCATION:NYCC\, BIRCHIN LANE\, NANTWICH\, CW56ET\, United Kingdom
CATEGORIES:Education
END:VEVENT
END:VCALENDAR