BEGIN:VCALENDAR
VERSION:2.0
PRODID:-//NYCC Nantwich youth and community centre - ECPv6.15.20//NONSGML v1.0//EN
CALSCALE:GREGORIAN
METHOD:PUBLISH
X-WR-CALNAME:NYCC Nantwich youth and community centre
X-ORIGINAL-URL:https://nycc.uk
X-WR-CALDESC:Events for NYCC Nantwich youth and community centre
REFRESH-INTERVAL;VALUE=DURATION:PT1H
X-Robots-Tag:noindex
X-PUBLISHED-TTL:PT1H
BEGIN:VTIMEZONE
TZID:UTC
BEGIN:STANDARD
TZOFFSETFROM:+0000
TZOFFSETTO:+0000
TZNAME:UTC
DTSTART:20240101T000000
END:STANDARD
END:VTIMEZONE
BEGIN:VEVENT
DTSTART;TZID=UTC:20251001T174500
DTEND;TZID=UTC:20251001T191500
DTSTAMP:20260423T110811
CREATED:20250930T080829Z
LAST-MODIFIED:20250930T092811Z
UID:1245-1759340700-1759346100@nycc.uk
SUMMARY:NYCC Junior Youth Club | International Coffee Day | Coffee Painting
DESCRIPTION:There’s something for everyone at Junior Youth Club. Pool\, snooker\, table tennis\, table football\, board games\, book swap\, PlayStation 5 gaming\, WiFi\, outdoor courts\, sports hall\, a well-being room\, a learning kitchen\, and even our own pop-up cinema. \nThis week we’re celebrating International Coffee Day with something creative. Coffee painting! Learn how to use coffee to make unique and textured artwork you can take home. \n👉 In addition\, you can relax with friends\, game on the PS5\, or take part in the usual range of games and activities at the club. \nPlayStation 5 with games \n🗓 Date: Wednesday 1st October\n🕕 Time: 5:45 PM – 7:15 PM\n📍 Where: Nantwich Youth & Community Centre\n👧👦 Ages: 8 to 12 (Junior Youth Club) \n💷 Suggested Donation per session: £2\n🎟 Club membership: £5 per year – sign up on our Join Us page.
URL:https://nycc.uk/event/nycc-junior-youth-club-international-coffee-day-coffee-painting/
LOCATION:NYCC\, BIRCHIN LANE\, NANTWICH\, CW56ET\, United Kingdom
CATEGORIES:Club activity
ATTACH;FMTTYPE=image/webp:https://nycc.uk/wp-content/uploads/2025/09/best-coffee-diy-painting-dc-art_720x.webp
END:VEVENT
END:VCALENDAR