BEGIN:VCALENDAR
VERSION:2.0
PRODID:-//NYCC Nantwich youth and community centre - ECPv6.15.20//NONSGML v1.0//EN
CALSCALE:GREGORIAN
METHOD:PUBLISH
X-WR-CALNAME:NYCC Nantwich youth and community centre
X-ORIGINAL-URL:https://nycc.uk
X-WR-CALDESC:Events for NYCC Nantwich youth and community centre
REFRESH-INTERVAL;VALUE=DURATION:PT1H
X-Robots-Tag:noindex
X-PUBLISHED-TTL:PT1H
BEGIN:VTIMEZONE
TZID:UTC
BEGIN:STANDARD
TZOFFSETFROM:+0000
TZOFFSETTO:+0000
TZNAME:UTC
DTSTART:20240101T000000
END:STANDARD
END:VTIMEZONE
BEGIN:VEVENT
DTSTART;TZID=UTC:20250620T101500
DTEND;TZID=UTC:20250620T150000
DTSTAMP:20260425T181335
CREATED:20250424T080717Z
LAST-MODIFIED:20250424T080717Z
UID:953-1750414500-1750431600@nycc.uk
SUMMARY:Dysart School of Dance
DESCRIPTION:Dysart School of Dance Ltd |
URL:https://nycc.uk/event/dysart-school-of-dance-196/
LOCATION:NYCC\, BIRCHIN LANE\, NANTWICH\, CW56ET\, United Kingdom
CATEGORIES:Event
END:VEVENT
BEGIN:VEVENT
DTSTART;TZID=UTC:20250620T174500
DTEND;TZID=UTC:20250620T191500
DTSTAMP:20260425T181335
CREATED:20250424T092732Z
LAST-MODIFIED:20250424T092732Z
UID:996-1750441500-1750446900@nycc.uk
SUMMARY:Youth Club (8-12's)
DESCRIPTION:
URL:https://nycc.uk/event/youth-club-8-12s-24/
LOCATION:NYCC\, BIRCHIN LANE\, NANTWICH\, CW56ET\, United Kingdom
CATEGORIES:Club activity
END:VEVENT
BEGIN:VEVENT
DTSTART;TZID=UTC:20250620T191500
DTEND;TZID=UTC:20250620T213000
DTSTAMP:20260425T181335
CREATED:20250424T100134Z
LAST-MODIFIED:20250424T100134Z
UID:1012-1750446900-1750455000@nycc.uk
SUMMARY:Youth Club (13+)
DESCRIPTION:
URL:https://nycc.uk/event/youth-club-13-13/
LOCATION:NYCC\, BIRCHIN LANE\, NANTWICH\, CW56ET\, United Kingdom
CATEGORIES:Club activity
END:VEVENT
END:VCALENDAR