BEGIN:VCALENDAR
VERSION:2.0
PRODID:-//NYCC Nantwich youth and community centre - ECPv6.15.20//NONSGML v1.0//EN
CALSCALE:GREGORIAN
METHOD:PUBLISH
X-WR-CALNAME:NYCC Nantwich youth and community centre
X-ORIGINAL-URL:https://nycc.uk
X-WR-CALDESC:Events for NYCC Nantwich youth and community centre
REFRESH-INTERVAL;VALUE=DURATION:PT1H
X-Robots-Tag:noindex
X-PUBLISHED-TTL:PT1H
BEGIN:VTIMEZONE
TZID:UTC
BEGIN:STANDARD
TZOFFSETFROM:+0000
TZOFFSETTO:+0000
TZNAME:UTC
DTSTART:20240101T000000
END:STANDARD
END:VTIMEZONE
BEGIN:VEVENT
DTSTART;TZID=UTC:20250613T101500
DTEND;TZID=UTC:20250613T150000
DTSTAMP:20260425T200304
CREATED:20250424T080623Z
LAST-MODIFIED:20250424T080623Z
UID:952-1749809700-1749826800@nycc.uk
SUMMARY:Dysart School of Dance
DESCRIPTION:Dysart School of Dance Ltd |
URL:https://nycc.uk/event/dysart-school-of-dance-195/
LOCATION:NYCC\, BIRCHIN LANE\, NANTWICH\, CW56ET\, United Kingdom
CATEGORIES:Event
END:VEVENT
BEGIN:VEVENT
DTSTART;TZID=UTC:20250613T174500
DTEND;TZID=UTC:20250613T191500
DTSTAMP:20260425T200304
CREATED:20250424T092635Z
LAST-MODIFIED:20250424T092635Z
UID:995-1749836700-1749842100@nycc.uk
SUMMARY:Youth Club (8-12's)
DESCRIPTION:
URL:https://nycc.uk/event/youth-club-8-12s-23/
LOCATION:NYCC\, BIRCHIN LANE\, NANTWICH\, CW56ET\, United Kingdom
CATEGORIES:Club activity
END:VEVENT
BEGIN:VEVENT
DTSTART;TZID=UTC:20250613T191500
DTEND;TZID=UTC:20250613T213000
DTSTAMP:20260425T200304
CREATED:20250424T100050Z
LAST-MODIFIED:20250424T100050Z
UID:1011-1749842100-1749850200@nycc.uk
SUMMARY:Youth Club (13+)
DESCRIPTION:
URL:https://nycc.uk/event/youth-club-13-12/
LOCATION:NYCC\, BIRCHIN LANE\, NANTWICH\, CW56ET\, United Kingdom
CATEGORIES:Club activity
END:VEVENT
END:VCALENDAR