BEGIN:VCALENDAR
VERSION:2.0
PRODID:-//NYCC Nantwich youth and community centre - ECPv6.15.20//NONSGML v1.0//EN
CALSCALE:GREGORIAN
METHOD:PUBLISH
X-WR-CALNAME:NYCC Nantwich youth and community centre
X-ORIGINAL-URL:https://nycc.uk
X-WR-CALDESC:Events for NYCC Nantwich youth and community centre
REFRESH-INTERVAL;VALUE=DURATION:PT1H
X-Robots-Tag:noindex
X-PUBLISHED-TTL:PT1H
BEGIN:VTIMEZONE
TZID:UTC
BEGIN:STANDARD
TZOFFSETFROM:+0000
TZOFFSETTO:+0000
TZNAME:UTC
DTSTART:20240101T000000
END:STANDARD
END:VTIMEZONE
BEGIN:VEVENT
DTSTART;TZID=UTC:20250425T101500
DTEND;TZID=UTC:20250425T150000
DTSTAMP:20260425T131323
CREATED:20250310T161952Z
LAST-MODIFIED:20250310T161952Z
UID:876-1745576100-1745593200@nycc.uk
SUMMARY:Dysart School of Dance
DESCRIPTION:Home
URL:https://nycc.uk/event/dysart-school-of-dance-149/
LOCATION:NYCC\, BIRCHIN LANE\, NANTWICH\, CW56ET\, United Kingdom
CATEGORIES:Event
END:VEVENT
BEGIN:VEVENT
DTSTART;TZID=UTC:20250425T174500
DTEND;TZID=UTC:20250425T191500
DTSTAMP:20260425T131323
CREATED:20250424T092024Z
LAST-MODIFIED:20250424T092024Z
UID:989-1745603100-1745608500@nycc.uk
SUMMARY:Youth Club (8-12's)
DESCRIPTION:
URL:https://nycc.uk/event/youth-club-8-12s-17/
LOCATION:NYCC\, BIRCHIN LANE\, NANTWICH\, CW56ET\, United Kingdom
CATEGORIES:Club activity
END:VEVENT
BEGIN:VEVENT
DTSTART;TZID=UTC:20250425T191500
DTEND;TZID=UTC:20250425T213000
DTSTAMP:20260425T131323
CREATED:20250424T093717Z
LAST-MODIFIED:20250424T093717Z
UID:1000-1745608500-1745616600@nycc.uk
SUMMARY:Youth Club (13+)
DESCRIPTION:
URL:https://nycc.uk/event/youth-club-13-5/
LOCATION:NYCC\, BIRCHIN LANE\, NANTWICH\, CW56ET\, United Kingdom
CATEGORIES:Club activity
END:VEVENT
END:VCALENDAR