BEGIN:VCALENDAR
VERSION:2.0
PRODID:-//NYCC Nantwich youth and community centre - ECPv6.15.20//NONSGML v1.0//EN
CALSCALE:GREGORIAN
METHOD:PUBLISH
X-ORIGINAL-URL:https://nycc.uk
X-WR-CALDESC:Events for NYCC Nantwich youth and community centre
REFRESH-INTERVAL;VALUE=DURATION:PT1H
X-Robots-Tag:noindex
X-PUBLISHED-TTL:PT1H
BEGIN:VTIMEZONE
TZID:UTC
BEGIN:STANDARD
TZOFFSETFROM:+0000
TZOFFSETTO:+0000
TZNAME:UTC
DTSTART:20240101T000000
END:STANDARD
END:VTIMEZONE
BEGIN:VEVENT
DTSTART;TZID=UTC:20250424T090000
DTEND;TZID=UTC:20250424T163000
DTSTAMP:20260425T131543
CREATED:20250424T083109Z
LAST-MODIFIED:20250424T083109Z
UID:968-1745485200-1745512200@nycc.uk
SUMMARY:Dysart School of Dance
DESCRIPTION:Dysart School of Dance Ltd |
URL:https://nycc.uk/event/dysart-school-of-dance-211/
LOCATION:NYCC\, BIRCHIN LANE\, NANTWICH\, CW56ET\, United Kingdom
CATEGORIES:Event
END:VEVENT
BEGIN:VEVENT
DTSTART;TZID=UTC:20250424T100000
DTEND;TZID=UTC:20250424T140000
DTSTAMP:20260425T131543
CREATED:20250424T073119Z
LAST-MODIFIED:20250424T073119Z
UID:923-1745488800-1745503200@nycc.uk
SUMMARY:Home Educators
DESCRIPTION:
URL:https://nycc.uk/event/home-educators-15/
CATEGORIES:Event
END:VEVENT
BEGIN:VEVENT
DTSTART;TZID=UTC:20250424T160000
DTEND;TZID=UTC:20250424T213000
DTSTAMP:20260425T131543
CREATED:20250310T161844Z
LAST-MODIFIED:20250310T161844Z
UID:875-1745510400-1745530200@nycc.uk
SUMMARY:Dysart School of Dance
DESCRIPTION:Home
URL:https://nycc.uk/event/dysart-school-of-dance-148/
LOCATION:NYCC\, BIRCHIN LANE\, NANTWICH\, CW56ET\, United Kingdom
CATEGORIES:Event
END:VEVENT
END:VCALENDAR