BEGIN:VCALENDAR
VERSION:2.0
PRODID:-//NYCC Nantwich youth and community centre - ECPv6.15.20//NONSGML v1.0//EN
CALSCALE:GREGORIAN
METHOD:PUBLISH
X-WR-CALNAME:NYCC Nantwich youth and community centre
X-ORIGINAL-URL:https://nycc.uk
X-WR-CALDESC:Events for NYCC Nantwich youth and community centre
REFRESH-INTERVAL;VALUE=DURATION:PT1H
X-Robots-Tag:noindex
X-PUBLISHED-TTL:PT1H
BEGIN:VTIMEZONE
TZID:UTC
BEGIN:STANDARD
TZOFFSETFROM:+0000
TZOFFSETTO:+0000
TZNAME:UTC
DTSTART:20230101T000000
END:STANDARD
END:VTIMEZONE
BEGIN:VEVENT
DTSTART;TZID=UTC:20241004T101500
DTEND;TZID=UTC:20241004T150000
DTSTAMP:20260424T132345
CREATED:20240904T080958Z
LAST-MODIFIED:20240904T080958Z
UID:611-1728036900-1728054000@nycc.uk
SUMMARY:Dysart School of Dance
DESCRIPTION:
URL:https://nycc.uk/event/dysart-school-of-dance-23/
CATEGORIES:Event
END:VEVENT
BEGIN:VEVENT
DTSTART;TZID=UTC:20241004T163000
DTEND;TZID=UTC:20241004T190000
DTSTAMP:20260424T132345
CREATED:20240729T190507Z
LAST-MODIFIED:20240729T190507Z
UID:493-1728059400-1728068400@nycc.uk
SUMMARY:Dysart School of Dance
DESCRIPTION:For Details of this event: \n \nHome
URL:https://nycc.uk/event/dysart-school-of-dance-17/
END:VEVENT
BEGIN:VEVENT
DTSTART;TZID=UTC:20241004T190000
DTEND;TZID=UTC:20241004T210000
DTSTAMP:20260424T132345
CREATED:20241003T174110Z
LAST-MODIFIED:20241003T174110Z
UID:652-1728068400-1728075600@nycc.uk
SUMMARY:Join the table top board game craze
DESCRIPTION:Join the table-top board gaming craze \nWe are excited to announce that the NYCC will be joining the tabletop board gaming craze. Every Friday. \nEd Passmore will be running the sessions. He is a very engaging host and knows his games! He has been running gaming sessions at Brine Leas for some time and will be sharing his knowledge of games like Warhammer and Dungeons and Dragons. This promises to be a night not to be missed. \nTable gaming has many benefits including co-operation and storytelling and is a great creative space for young people to meet new friends. \nAn inclusive\, welcoming and social environment for all our members\,. this gaming evening is suitable for those over 11+. \nJoin the fun! £2 entry will be required. You can pay online or on the night. \nOpen to all NYCC members. Please RSVP. \nhello@nycc.uk \n*Every Friday during term time and sometimes in the holidays too*
URL:https://nycc.uk/event/join-the-table-top-board-game-craze-2/
CATEGORIES:Club activity
ATTACH;FMTTYPE=image/jpeg:https://nycc.uk/wp-content/uploads/2024/08/shutterstock_2357174135.jpg
END:VEVENT
END:VCALENDAR