BEGIN:VCALENDAR
VERSION:2.0
PRODID:-//NYCC Nantwich youth and community centre - ECPv6.15.20//NONSGML v1.0//EN
CALSCALE:GREGORIAN
METHOD:PUBLISH
X-ORIGINAL-URL:https://nycc.uk
X-WR-CALDESC:Events for NYCC Nantwich youth and community centre
REFRESH-INTERVAL;VALUE=DURATION:PT1H
X-Robots-Tag:noindex
X-PUBLISHED-TTL:PT1H
BEGIN:VTIMEZONE
TZID:UTC
BEGIN:STANDARD
TZOFFSETFROM:+0000
TZOFFSETTO:+0000
TZNAME:UTC
DTSTART:20230101T000000
END:STANDARD
END:VTIMEZONE
BEGIN:VEVENT
DTSTART;TZID=UTC:20240927T101500
DTEND;TZID=UTC:20240927T141500
DTSTAMP:20260424T161446
CREATED:20240729T193703Z
LAST-MODIFIED:20240729T193703Z
UID:512-1727432100-1727446500@nycc.uk
SUMMARY:Dysart School of Dance
DESCRIPTION:For Details of this event: \n \nHome
URL:https://nycc.uk/event/dysart-school-of-dance-36/
END:VEVENT
BEGIN:VEVENT
DTSTART;TZID=UTC:20240927T163000
DTEND;TZID=UTC:20240927T190000
DTSTAMP:20260424T161446
CREATED:20240729T190340Z
LAST-MODIFIED:20240729T190340Z
UID:492-1727454600-1727463600@nycc.uk
SUMMARY:Dysart School of Dance
DESCRIPTION:For Details of this event: \n \nHome
URL:https://nycc.uk/event/dysart-school-of-dance-16/
END:VEVENT
END:VCALENDAR