BEGIN:VCALENDAR
VERSION:2.0
PRODID:-//NYCC Nantwich youth and community centre - ECPv6.15.20//NONSGML v1.0//EN
CALSCALE:GREGORIAN
METHOD:PUBLISH
X-WR-CALNAME:NYCC Nantwich youth and community centre
X-ORIGINAL-URL:https://nycc.uk
X-WR-CALDESC:Events for NYCC Nantwich youth and community centre
REFRESH-INTERVAL;VALUE=DURATION:PT1H
X-Robots-Tag:noindex
X-PUBLISHED-TTL:PT1H
BEGIN:VTIMEZONE
TZID:UTC
BEGIN:STANDARD
TZOFFSETFROM:+0000
TZOFFSETTO:+0000
TZNAME:UTC
DTSTART:20230101T000000
END:STANDARD
END:VTIMEZONE
BEGIN:VEVENT
DTSTART;TZID=UTC:20240912T100000
DTEND;TZID=UTC:20240912T140000
DTSTAMP:20260424T144916
CREATED:20240907T071515Z
LAST-MODIFIED:20240907T071515Z
UID:629-1726135200-1726149600@nycc.uk
SUMMARY:Home Educators
DESCRIPTION:
URL:https://nycc.uk/event/home-educators-2/
CATEGORIES:Event
END:VEVENT
BEGIN:VEVENT
DTSTART;TZID=UTC:20240912T160000
DTEND;TZID=UTC:20240912T213000
DTSTAMP:20260424T144916
CREATED:20240903T192115Z
LAST-MODIFIED:20240903T192115Z
UID:593-1726156800-1726176600@nycc.uk
SUMMARY:Dysart School of Dance
DESCRIPTION:Home
URL:https://nycc.uk/event/dysart-school-of-dance-21/
CATEGORIES:Event
END:VEVENT
END:VCALENDAR