BEGIN:VCALENDAR
VERSION:2.0
PRODID:-//NYCC Nantwich youth and community centre - ECPv6.15.20//NONSGML v1.0//EN
CALSCALE:GREGORIAN
METHOD:PUBLISH
X-ORIGINAL-URL:https://nycc.uk
X-WR-CALDESC:Events for NYCC Nantwich youth and community centre
REFRESH-INTERVAL;VALUE=DURATION:PT1H
X-Robots-Tag:noindex
X-PUBLISHED-TTL:PT1H
BEGIN:VTIMEZONE
TZID:UTC
BEGIN:STANDARD
TZOFFSETFROM:+0000
TZOFFSETTO:+0000
TZNAME:UTC
DTSTART:20230101T000000
END:STANDARD
END:VTIMEZONE
BEGIN:VEVENT
DTSTART;TZID=UTC:20240902T091500
DTEND;TZID=UTC:20240902T100000
DTSTAMP:20260424T172622
CREATED:20240902T080649Z
LAST-MODIFIED:20240902T080649Z
UID:550-1725268500-1725271200@nycc.uk
SUMMARY:Ladies Boot Camp
DESCRIPTION:https://www.ladiesbootcamp.co.uk/
URL:https://nycc.uk/event/ladies-boot-camp/
CATEGORIES:Event
END:VEVENT
BEGIN:VEVENT
DTSTART;TZID=UTC:20240902T154500
DTEND;TZID=UTC:20240902T211500
DTSTAMP:20260424T172622
CREATED:20240729T183554Z
LAST-MODIFIED:20240729T183554Z
UID:481-1725291900-1725311700@nycc.uk
SUMMARY:Dysart School of Dance
DESCRIPTION:For Details of this event: \n \nHome
URL:https://nycc.uk/event/dysart-school-of-dance-6/
CATEGORIES:Event
END:VEVENT
END:VCALENDAR